BEGIN:VCALENDAR
VERSION:2.0
PRODID:-//Fordham Now - ECPv6.15.20//NONSGML v1.0//EN
CALSCALE:GREGORIAN
METHOD:PUBLISH
X-WR-CALNAME:Fordham Now
X-ORIGINAL-URL:https://newsuat.fordham.edu
X-WR-CALDESC:Events for Fordham Now
REFRESH-INTERVAL;VALUE=DURATION:PT1H
X-Robots-Tag:noindex
X-PUBLISHED-TTL:PT1H
BEGIN:VTIMEZONE
TZID:America/New_York
BEGIN:DAYLIGHT
TZOFFSETFROM:-0500
TZOFFSETTO:-0400
TZNAME:EDT
DTSTART:20210314T070000
END:DAYLIGHT
BEGIN:STANDARD
TZOFFSETFROM:-0400
TZOFFSETTO:-0500
TZNAME:EST
DTSTART:20211107T060000
END:STANDARD
BEGIN:DAYLIGHT
TZOFFSETFROM:-0500
TZOFFSETTO:-0400
TZNAME:EDT
DTSTART:20220313T070000
END:DAYLIGHT
BEGIN:STANDARD
TZOFFSETFROM:-0400
TZOFFSETTO:-0500
TZNAME:EST
DTSTART:20221106T060000
END:STANDARD
BEGIN:DAYLIGHT
TZOFFSETFROM:-0500
TZOFFSETTO:-0400
TZNAME:EDT
DTSTART:20230312T070000
END:DAYLIGHT
BEGIN:STANDARD
TZOFFSETFROM:-0400
TZOFFSETTO:-0500
TZNAME:EST
DTSTART:20231105T060000
END:STANDARD
END:VTIMEZONE
BEGIN:VTIMEZONE
TZID:America/Los_Angeles
BEGIN:DAYLIGHT
TZOFFSETFROM:-0800
TZOFFSETTO:-0700
TZNAME:PDT
DTSTART:20210314T100000
END:DAYLIGHT
BEGIN:STANDARD
TZOFFSETFROM:-0700
TZOFFSETTO:-0800
TZNAME:PST
DTSTART:20211107T090000
END:STANDARD
BEGIN:DAYLIGHT
TZOFFSETFROM:-0800
TZOFFSETTO:-0700
TZNAME:PDT
DTSTART:20220313T100000
END:DAYLIGHT
BEGIN:STANDARD
TZOFFSETFROM:-0700
TZOFFSETTO:-0800
TZNAME:PST
DTSTART:20221106T090000
END:STANDARD
BEGIN:DAYLIGHT
TZOFFSETFROM:-0800
TZOFFSETTO:-0700
TZNAME:PDT
DTSTART:20230312T100000
END:DAYLIGHT
BEGIN:STANDARD
TZOFFSETFROM:-0700
TZOFFSETTO:-0800
TZNAME:PST
DTSTART:20231105T090000
END:STANDARD
END:VTIMEZONE
BEGIN:VEVENT
DTSTART;TZID=America/New_York:20221112T103000
DTEND;TZID=America/New_York:20221112T133000
DTSTAMP:20260420T083527
CREATED:20220929T182238Z
LAST-MODIFIED:20220929T182238Z
UID:10004826-1668249000-1668259800@newsuat.fordham.edu
SUMMARY:Alumni Chapter of Long Island: 2022 Fordham Lafayette Tailgate
DESCRIPTION:Join the Alumni Chapter of Long Island and fellow Fordham football fans before the Rams take on the Lafayette Leopards at the chapter’s annual tailgate. Wear your best maroon gear and toast to Fordham before the game in A Lot.
URL:https://newsuat.fordham.edu/event/alumni-chapter-of-long-island-2022-fordham-lafayette-tailgate/
LOCATION:Parking Lot A Rose Hill Campus\, Fordham University\, Bronx\, NY\, 10458\, United States
CATEGORIES:Athletics,Social
ORGANIZER;CN="Long Island Alumni Chapter":MAILTO:phillipcicione@gmail.com
END:VEVENT
BEGIN:VEVENT
DTSTART;TZID=America/New_York:20221112T110000
DTEND;TZID=America/New_York:20221112T130000
DTSTAMP:20260420T083527
CREATED:20220921T170225Z
LAST-MODIFIED:20220921T170225Z
UID:10004817-1668250800-1668258000@newsuat.fordham.edu
SUMMARY:Maroon Club Tailgate Tent
DESCRIPTION:Join us under the Maroon Club tent for a tailgate before the Rams take on Lafayette at Jack Coffey Field! \nIf you are giving at the Captain Level ($1\,000 to $2\,499 annually)\, you receive complimentary access to the tent. \nIf you are giving at the All-Conference Level ($2\,500 to $4\,999 annually)\, you and a guest receive complimentary access to the tent. \nIf you are giving at the All-American Level ($5\,000 to $9\,999 annually)\, you and two guests receive complimentary access to the tent. \nIf you are giving at the Championship Level ($10\,000+ annually)\, you and three guests receive complimentary access to the tent. \nRegister online for $30\, or pay $40 at the door\, if you are not giving at the above levels. (Fair market value is $30.)
URL:https://newsuat.fordham.edu/event/maroon-club-tailgate-tent-2/
LOCATION:Parking Lot A Rose Hill Campus\, Fordham University\, Bronx\, NY\, 10458\, United States
CATEGORIES:Athletics
ORGANIZER;CN="Shannon Lulley":MAILTO:slulley@fordham.edu
END:VEVENT
BEGIN:VEVENT
DTSTART;TZID=America/New_York:20221114T180000
DTEND;TZID=America/New_York:20221114T200000
DTSTAMP:20260420T083527
CREATED:20221013T195612Z
LAST-MODIFIED:20221013T195612Z
UID:10004846-1668448800-1668456000@newsuat.fordham.edu
SUMMARY:2022 Basketball Tipoff Reception
DESCRIPTION:Join us for the 2022 Fordham Basketball Tipoff Reception! Mingle with Head Men’s Basketball Coach Keith Urgo and Interim Head Women’s Basketball Coach Candice Green.
URL:https://newsuat.fordham.edu/event/2022-basketball-tipoff-reception/
LOCATION:Empire Steak House and Lounge\, 145 E. 50th\, New York\, NY\, United States
CATEGORIES:Athletics,Receptions,Social
ORGANIZER;CN="Kara Field":MAILTO:kfield1@fordham.edu
END:VEVENT
BEGIN:VEVENT
DTSTART;TZID=America/Los_Angeles:20221118T190000
DTEND;TZID=America/Los_Angeles:20221118T220000
DTSTAMP:20260420T083527
CREATED:20221021T144336Z
LAST-MODIFIED:20221021T144336Z
UID:10004860-1668798000-1668808800@newsuat.fordham.edu
SUMMARY:Alumni Chapter of Northern California: 2022 Knicks at Warriors
DESCRIPTION:Join the Alumni Chapter of Northern California as the 2022 World Champion Golden State Warriors host the New York Knicks! Tickets are available at three price points: \n\nSection 127/128 (lower row): $180 per ticket\nSection 127/128 (upper row): $155 per ticket\nSection 217 (upper row): $70 per ticket\n\nSeats in sections 127/128 come with access to the Pepsi Club. All tickets include an invitation to attend the Courtside Shoot Around to watch the players warm up from the floor level at 6 p.m. \nA very limited number of tickets are available\, and the last day to purchase tickets is Friday\, November 4\, so get your tickets today!
URL:https://newsuat.fordham.edu/event/alumni-chapter-of-northern-california-2022-knicks-at-warriors/
LOCATION:Chase Center\, 1 Warriors Way\, San Francisco\, CA\, 94158\, United States
CATEGORIES:Athletics,Receptions,Social
ORGANIZER;CN="Alumni Chapter of Northern California":MAILTO:markadigiorgio@att.net
END:VEVENT
BEGIN:VEVENT
DTSTART;TZID=America/New_York:20221119T110000
DTEND;TZID=America/New_York:20221119T130000
DTSTAMP:20260420T083527
CREATED:20220921T170401Z
LAST-MODIFIED:20220921T170401Z
UID:10004818-1668855600-1668862800@newsuat.fordham.edu
SUMMARY:Maroon Club Tailgate Tent
DESCRIPTION:Join us under the Maroon Club tent for a tailgate before the Rams take on Colgate at Jack Coffey Field. \nIf you are giving at the Captain Level ($1\,000 to $2\,499 annually)\, you receive complimentary access to the tent. \nIf you are giving at the All-Conference Level ($2\,500 to $4\,999 annually)\, you and a guest receive complimentary access to the tent. \nIf you are giving at the All-American Level ($5\,000 to $9\,999 annually)\, you and two guests receive complimentary access to the tent. \nIf you are giving at the Championship Level ($10\,000+ annually)\, you and three guests receive complimentary access to the tent. \nRegister online for $30\, or pay $40 at the door\, if you are not giving at the above levels. (Fair market value is $30.)
URL:https://newsuat.fordham.edu/event/maroon-club-tailgate-tent-3/
LOCATION:Parking Lot A Rose Hill Campus\, Fordham University\, Bronx\, NY\, 10458\, United States
CATEGORIES:Athletics
ORGANIZER;CN="Shannon Lulley":MAILTO:slulley@fordham.edu
END:VEVENT
BEGIN:VEVENT
DTSTART;TZID=America/New_York:20221127T110000
DTEND;TZID=America/New_York:20221127T130000
DTSTAMP:20260420T083527
CREATED:20221020T165731Z
LAST-MODIFIED:20221020T165731Z
UID:10004851-1669546800-1669554000@newsuat.fordham.edu
SUMMARY:Frank McLaughlin Family Court Unveiling
DESCRIPTION:Register to join us for Mass\, brunch\, and a Fordham vs. Harvard men’s basketball game to honor former coach and athletic director Frank McLaughlin. We are appreciative of everything that he and his family have done for Fordham Athletics and Fordham basketball. We will be honoring the McLaughlin family and officially unveiling the court in their name at halftime. \nAgenda \n11 a.m.: Mass | University Church \n12 p.m.: Brunch | Great Hall \n1:30 p.m.: Fordham vs. Harvard | Rose Hill Gym \nTo purchase your tickets for the basketball game\, please call the Fordham Ticket Office at 718-817-4759.
URL:https://newsuat.fordham.edu/event/frank-mclaughlin-family-court-unveiling/
LOCATION:Rose Hill Gymnasium\, 441 East Fordham Road\, Bronx\, NY\, 10458\, United States
CATEGORIES:Athletics
ORGANIZER;CN="Shannon Lulley":MAILTO:slulley@fordham.edu
GEO:40.8612275;-73.8892354
X-APPLE-STRUCTURED-LOCATION;VALUE=URI;X-ADDRESS=Rose Hill Gymnasium 441 East Fordham Road Bronx NY 10458 United States;X-APPLE-RADIUS=500;X-TITLE=441 East Fordham Road:geo:-73.8892354,40.8612275
END:VEVENT
END:VCALENDAR