BEGIN:VCALENDAR
VERSION:2.0
PRODID:-//Fordham Now - ECPv6.15.20//NONSGML v1.0//EN
CALSCALE:GREGORIAN
METHOD:PUBLISH
X-ORIGINAL-URL:https://newsuat.fordham.edu
X-WR-CALDESC:Events for Fordham Now
REFRESH-INTERVAL;VALUE=DURATION:PT1H
X-Robots-Tag:noindex
X-PUBLISHED-TTL:PT1H
BEGIN:VTIMEZONE
TZID:America/New_York
BEGIN:DAYLIGHT
TZOFFSETFROM:-0500
TZOFFSETTO:-0400
TZNAME:EDT
DTSTART:20210314T070000
END:DAYLIGHT
BEGIN:STANDARD
TZOFFSETFROM:-0400
TZOFFSETTO:-0500
TZNAME:EST
DTSTART:20211107T060000
END:STANDARD
BEGIN:DAYLIGHT
TZOFFSETFROM:-0500
TZOFFSETTO:-0400
TZNAME:EDT
DTSTART:20220313T070000
END:DAYLIGHT
BEGIN:STANDARD
TZOFFSETFROM:-0400
TZOFFSETTO:-0500
TZNAME:EST
DTSTART:20221106T060000
END:STANDARD
BEGIN:DAYLIGHT
TZOFFSETFROM:-0500
TZOFFSETTO:-0400
TZNAME:EDT
DTSTART:20230312T070000
END:DAYLIGHT
BEGIN:STANDARD
TZOFFSETFROM:-0400
TZOFFSETTO:-0500
TZNAME:EST
DTSTART:20231105T060000
END:STANDARD
END:VTIMEZONE
BEGIN:VEVENT
DTSTART;TZID=America/New_York:20220711T123000
DTEND;TZID=America/New_York:20220711T200000
DTSTAMP:20260420T163204
CREATED:20220531T181642Z
LAST-MODIFIED:20220531T181642Z
UID:10004751-1657542600-1657569600@newsuat.fordham.edu
SUMMARY:2022 Fordham Track and Field Golf Outing
DESCRIPTION:Please join head track and field coach Brian Horowitz at the 2022 Fordham Track and Field Golf Outing! It will be a great day spent on the links with fellow teammates and Fordham fans. \nAgenda \n12:30 p.m. | Registration\n1:30 p.m. | Shotgun Start (lunch available at stations)\n6 p.m. | Buffet Dinner \n 
URL:https://newsuat.fordham.edu/event/2022-fordham-track-and-field-golf-outing/
LOCATION:Clearview Golf Course\, 202-12 Willets Point Blvd\, Bayside\, NY\, 11360\, United States
CATEGORIES:Athletics
ORGANIZER;CN="Shannon Lulley":MAILTO:slulley@fordham.edu
END:VEVENT
END:VCALENDAR