BEGIN:VCALENDAR
VERSION:2.0
PRODID:-//Fordham Now - ECPv6.15.20//NONSGML v1.0//EN
CALSCALE:GREGORIAN
METHOD:PUBLISH
X-ORIGINAL-URL:https://newsuat.fordham.edu
X-WR-CALDESC:Events for Fordham Now
REFRESH-INTERVAL;VALUE=DURATION:PT1H
X-Robots-Tag:noindex
X-PUBLISHED-TTL:PT1H
BEGIN:VTIMEZONE
TZID:America/New_York
BEGIN:DAYLIGHT
TZOFFSETFROM:-0500
TZOFFSETTO:-0400
TZNAME:EDT
DTSTART:20210314T070000
END:DAYLIGHT
BEGIN:STANDARD
TZOFFSETFROM:-0400
TZOFFSETTO:-0500
TZNAME:EST
DTSTART:20211107T060000
END:STANDARD
BEGIN:DAYLIGHT
TZOFFSETFROM:-0500
TZOFFSETTO:-0400
TZNAME:EDT
DTSTART:20220313T070000
END:DAYLIGHT
BEGIN:STANDARD
TZOFFSETFROM:-0400
TZOFFSETTO:-0500
TZNAME:EST
DTSTART:20221106T060000
END:STANDARD
BEGIN:DAYLIGHT
TZOFFSETFROM:-0500
TZOFFSETTO:-0400
TZNAME:EDT
DTSTART:20230312T070000
END:DAYLIGHT
BEGIN:STANDARD
TZOFFSETFROM:-0400
TZOFFSETTO:-0500
TZNAME:EST
DTSTART:20231105T060000
END:STANDARD
END:VTIMEZONE
BEGIN:VEVENT
DTSTART;TZID=America/New_York:20220303T180000
DTEND;TZID=America/New_York:20220303T193000
DTSTAMP:20260421T001420
CREATED:20220228T203726Z
LAST-MODIFIED:20220228T203726Z
UID:10004665-1646330400-1646335800@newsuat.fordham.edu
SUMMARY:Women's Basketball A10 Tournament Pregame Reception
DESCRIPTION:Please join us in Wilmington\, Delaware\, for a pre-game reception at the Atlantic 10 Tournament! \nFordham Women’s Basketball will be in Delaware from March 2 to March 6 to play in the tournament\, so we will be hosting a pre-game reception at the team hotel prior to tip-off. Join us in the hotel lobby at the Doubletree Hotel Downtown Wilmington to kick off the Ram’s tournament play!
URL:https://newsuat.fordham.edu/event/womens-basketball-a10-tournament-pregame-reception/
LOCATION:DoubleTree by Hilton Hotel Downtown Wilmington\, 700 N King St\, Wilmington\, DE\, 19801\, United States
CATEGORIES:Athletics
ORGANIZER;CN="Kara Field":MAILTO:kfield1@fordham.edu
END:VEVENT
BEGIN:VEVENT
DTSTART;TZID=America/New_York:20220310T103000
DTEND;TZID=America/New_York:20220310T120000
DTSTAMP:20260421T001420
CREATED:20220309T182602Z
LAST-MODIFIED:20220309T182602Z
UID:10004674-1646908200-1646913600@newsuat.fordham.edu
SUMMARY:2022 Men’s Basketball A10 Tournament Pregame Reception
DESCRIPTION:Please join us in Washington\, D.C.\, for a pre-game reception at the Atlantic 10 Tournament! \nFordham Men’s Basketball will be in Washington\, D.C.\, from March 9 to 13 to compete in the Atlantic 10 Tournament! We will be hosting a pre-game reception at Urban Roast on Thursday\, March 10 at 10:30 am before heading over to Capital One Arena for the game.
URL:https://newsuat.fordham.edu/event/2022-mens-basketball-a10-tournament-pregame-reception/
LOCATION:Urban Roast\, Washington DC\, 916 G Street\, Washington\, DC\, DC\, 20001\, United States
CATEGORIES:Athletics
ORGANIZER;CN="Kara Field":MAILTO:kfield1@fordham.edu
END:VEVENT
BEGIN:VEVENT
DTSTART;TZID=America/New_York:20220318T173000
DTEND;TZID=America/New_York:20220318T190000
DTSTAMP:20260421T001420
CREATED:20220315T172020Z
LAST-MODIFIED:20220315T172020Z
UID:10004685-1647624600-1647630000@newsuat.fordham.edu
SUMMARY:Women's Basketball WNIT Pregame Reception
DESCRIPTION:Please join us for a pregame reception at Michaelangelo’s prior to the WNIT first-round game. \nFor the sixth straight year\, Fordham Women’s Basketball has earned a postseason berth and will be playing in the WNIT. On Friday\, March 18 at 7 p.m.\, the Rams will take on Bucknell at home in the first round of the tournament. We hope you can join us at Michaelangelo’s at 5:30 p.m. before heading over to the Rose Hill Gym to cheer on the Rams!
URL:https://newsuat.fordham.edu/event/womens-basketball-wnit-pregame-reception/
LOCATION:Michael Angelo’s\, 2477 Arthur Avenue\, Bronx\, NY\, 10458\, United States
CATEGORIES:Athletics
ORGANIZER;CN="Shannon Lulley":MAILTO:slulley@fordham.edu
GEO:40.8573584;-73.8863021
X-APPLE-STRUCTURED-LOCATION;VALUE=URI;X-ADDRESS=Michael Angelo’s 2477 Arthur Avenue Bronx NY 10458 United States;X-APPLE-RADIUS=500;X-TITLE=2477 Arthur Avenue:geo:-73.8863021,40.8573584
END:VEVENT
END:VCALENDAR