BEGIN:VCALENDAR
VERSION:2.0
PRODID:-//Fordham Now - ECPv6.15.20//NONSGML v1.0//EN
CALSCALE:GREGORIAN
METHOD:PUBLISH
X-WR-CALNAME:Fordham Now
X-ORIGINAL-URL:https://newsuat.fordham.edu
X-WR-CALDESC:Events for Fordham Now
REFRESH-INTERVAL;VALUE=DURATION:PT1H
X-Robots-Tag:noindex
X-PUBLISHED-TTL:PT1H
BEGIN:VTIMEZONE
TZID:America/New_York
BEGIN:DAYLIGHT
TZOFFSETFROM:-0500
TZOFFSETTO:-0400
TZNAME:EDT
DTSTART:20200308T070000
END:DAYLIGHT
BEGIN:STANDARD
TZOFFSETFROM:-0400
TZOFFSETTO:-0500
TZNAME:EST
DTSTART:20201101T060000
END:STANDARD
BEGIN:DAYLIGHT
TZOFFSETFROM:-0500
TZOFFSETTO:-0400
TZNAME:EDT
DTSTART:20210314T070000
END:DAYLIGHT
BEGIN:STANDARD
TZOFFSETFROM:-0400
TZOFFSETTO:-0500
TZNAME:EST
DTSTART:20211107T060000
END:STANDARD
BEGIN:DAYLIGHT
TZOFFSETFROM:-0500
TZOFFSETTO:-0400
TZNAME:EDT
DTSTART:20220313T070000
END:DAYLIGHT
BEGIN:STANDARD
TZOFFSETFROM:-0400
TZOFFSETTO:-0500
TZNAME:EST
DTSTART:20221106T060000
END:STANDARD
END:VTIMEZONE
BEGIN:VEVENT
DTSTART;TZID=America/New_York:20211007T173000
DTEND;TZID=America/New_York:20211007T213000
DTSTAMP:20260421T095030
CREATED:20210722T141147Z
LAST-MODIFIED:20210722T141147Z
UID:10004380-1633627800-1633642200@newsuat.fordham.edu
SUMMARY:2021 Fordham Athletics Hall of Fame Induction Ceremony
DESCRIPTION:Please join us for a night under the stars for the 2021 Fordham Athletics Hall of Fame Induction Ceremony! It will be an amazing evening to celebrate your fellow Rams in support of Fordham athletics.
URL:https://newsuat.fordham.edu/event/2021-fordham-athletics-hall-of-fame-induction-ceremony/
LOCATION:Edwards Parade\, 441 East Fordham Road\, Bronx\, NY\, 10458\, United States
CATEGORIES:Athletics,Receptions,Reunions
ORGANIZER;CN="Kara Field":MAILTO:kfield1@fordham.edu
GEO:40.8612275;-73.8892354
X-APPLE-STRUCTURED-LOCATION;VALUE=URI;X-ADDRESS=Edwards Parade 441 East Fordham Road Bronx NY 10458 United States;X-APPLE-RADIUS=500;X-TITLE=441 East Fordham Road:geo:-73.8892354,40.8612275
END:VEVENT
BEGIN:VEVENT
DTSTART;TZID=America/New_York:20211009T090000
DTEND;TZID=America/New_York:20211009T163000
DTSTAMP:20260421T095030
CREATED:20210901T134031Z
LAST-MODIFIED:20210901T134031Z
UID:10004395-1633770000-1633797000@newsuat.fordham.edu
SUMMARY:Homecoming 2021
DESCRIPTION:Join fellow alumni\, fans\, and friends as we come back home to Rose Hill and cheer on the Fordham Rams against the Wagner College Seahawks.
URL:https://newsuat.fordham.edu/event/homecoming-2021/
LOCATION:Edwards Parade\, 441 East Fordham Road\, Bronx\, NY\, 10458\, United States
CATEGORIES:Athletics,Reunions,Social
ORGANIZER;CN="Office of Alumni Relations":MAILTO:alumnioffice@fordham.edu
GEO:40.8612275;-73.8892354
X-APPLE-STRUCTURED-LOCATION;VALUE=URI;X-ADDRESS=Edwards Parade 441 East Fordham Road Bronx NY 10458 United States;X-APPLE-RADIUS=500;X-TITLE=441 East Fordham Road:geo:-73.8892354,40.8612275
END:VEVENT
BEGIN:VEVENT
DTSTART;TZID=America/New_York:20211012T080000
DTEND;TZID=America/New_York:20211012T200000
DTSTAMP:20260421T095030
CREATED:20210706T190036Z
LAST-MODIFIED:20210706T190036Z
UID:10004371-1634025600-1634068800@newsuat.fordham.edu
SUMMARY:2021 Fordham Golf Classic
DESCRIPTION:Fordham University is excited to return to Winged Foot Golf Club for the 2021 Golf Classic! Please join Fordham alumni\, parents\, and friends for a day at the iconic Winged Foot Golf Club\, the host of the 2020 U.S. Open.
URL:https://newsuat.fordham.edu/event/2021-fordham-golf-classic/
LOCATION:Winged Foot Golf Club\, 851 Fenimore Rd\, Mamaroneck\, NY\, 10543\, United States
CATEGORIES:Athletics,Receptions,Reunions,Social
ORGANIZER;CN="Kara Field":MAILTO:kfield1@fordham.edu
END:VEVENT
END:VCALENDAR