BEGIN:VCALENDAR
VERSION:2.0
PRODID:-//Fordham Now - ECPv6.15.20//NONSGML v1.0//EN
CALSCALE:GREGORIAN
METHOD:PUBLISH
X-WR-CALNAME:Fordham Now
X-ORIGINAL-URL:https://newsuat.fordham.edu
X-WR-CALDESC:Events for Fordham Now
REFRESH-INTERVAL;VALUE=DURATION:PT1H
X-Robots-Tag:noindex
X-PUBLISHED-TTL:PT1H
BEGIN:VTIMEZONE
TZID:America/New_York
BEGIN:DAYLIGHT
TZOFFSETFROM:-0500
TZOFFSETTO:-0400
TZNAME:EDT
DTSTART:20200308T070000
END:DAYLIGHT
BEGIN:STANDARD
TZOFFSETFROM:-0400
TZOFFSETTO:-0500
TZNAME:EST
DTSTART:20201101T060000
END:STANDARD
BEGIN:DAYLIGHT
TZOFFSETFROM:-0500
TZOFFSETTO:-0400
TZNAME:EDT
DTSTART:20210314T070000
END:DAYLIGHT
BEGIN:STANDARD
TZOFFSETFROM:-0400
TZOFFSETTO:-0500
TZNAME:EST
DTSTART:20211107T060000
END:STANDARD
BEGIN:DAYLIGHT
TZOFFSETFROM:-0500
TZOFFSETTO:-0400
TZNAME:EDT
DTSTART:20220313T070000
END:DAYLIGHT
BEGIN:STANDARD
TZOFFSETFROM:-0400
TZOFFSETTO:-0500
TZNAME:EST
DTSTART:20221106T060000
END:STANDARD
END:VTIMEZONE
BEGIN:VEVENT
DTSTART;TZID=America/New_York:20210918T153000
DTEND;TZID=America/New_York:20210918T173000
DTSTAMP:20260421T115219
CREATED:20210810T131725Z
LAST-MODIFIED:20210810T131725Z
UID:10004390-1631979000-1631986200@newsuat.fordham.edu
SUMMARY:Fordham Football at FAU: Pregame Tailgate
DESCRIPTION:This September\, Fordham athletics and the Office of Alumni Relations invites alumni\, family\, friends\, and all Fordham fans to join us in Boca Raton\, Florida\, as the Rams take on the Florida Atlantic Owls! \nJoin fellow Fordham fans on Saturday afternoon before Fordham plays Florida Atlantic. Our tailgate tent will be located on the lawn near the visitor entrance of FAU Stadium and will include a BBQ buffet\, beer\, wine\, and soft drinks. Attendees will be joined by Ed Kull\, director of athletics\, members of Fordham Athletics and the Office of Alumni Relations\, and Joe Conlin\, head football coach. Kickoff is at 6 p.m. \nPricing\nThe cost of the tailgate is $35 per person and includes a game ticket ($20 for children under 12). The cost of the tailgate only is $25 per person ($10 for children under 12). Advance registration is required. RSVP by September 10. \nInformation about ticket distribution is forthcoming.
URL:https://newsuat.fordham.edu/event/fordham-football-at-fau-pregame-tailgate/
LOCATION:Florida Atlantic Stadium\, Intersection of N. University Drive and FAU Boulevard\, Boca Raton\, FL\, 33431\, United States
CATEGORIES:Athletics,Social
ORGANIZER;CN="Office of Alumni Relations":MAILTO:alumnioffice@fordham.edu
END:VEVENT
BEGIN:VEVENT
DTSTART;TZID=America/New_York:20210925T133000
DTEND;TZID=America/New_York:20210925T151500
DTSTAMP:20260421T115219
CREATED:20210903T153132Z
LAST-MODIFIED:20210903T153132Z
UID:10004401-1632576600-1632582900@newsuat.fordham.edu
SUMMARY:Alumni Chapter of Long Island: Stony Brook Pregame Tailgate
DESCRIPTION:Come tailgate with local alumni before the Rams vs. Seawolves football game at Stony Brook University! The exact location in the parking lot is to be determined upon arrival. There is no fee for tailgating\, but tickets for the game should be purchased through the Fordham athletics department or Stony Brook. Please email Long Island chapter leader Phil Cicione at phillipcicione@gmail.com for our location\, or look for the chapter banner.
URL:https://newsuat.fordham.edu/event/alumni-chapter-of-long-island-stony-brook-pregame-tailgate/
LOCATION:Stony Brook University Parking Lot\, 100 Nicolls Road\, Stony Brook\, NY\, 11794\, United States
CATEGORIES:Athletics,Receptions,Social
ORGANIZER;CN="Alumni Chapter of Long Island":MAILTO:phillipcicione@gmail.com
END:VEVENT
END:VCALENDAR