BEGIN:VCALENDAR
VERSION:2.0
PRODID:-//Fordham Now - ECPv6.15.20//NONSGML v1.0//EN
CALSCALE:GREGORIAN
METHOD:PUBLISH
X-ORIGINAL-URL:https://newsuat.fordham.edu
X-WR-CALDESC:Events for Fordham Now
REFRESH-INTERVAL;VALUE=DURATION:PT1H
X-Robots-Tag:noindex
X-PUBLISHED-TTL:PT1H
BEGIN:VTIMEZONE
TZID:America/New_York
BEGIN:DAYLIGHT
TZOFFSETFROM:-0500
TZOFFSETTO:-0400
TZNAME:EDT
DTSTART:20200308T070000
END:DAYLIGHT
BEGIN:STANDARD
TZOFFSETFROM:-0400
TZOFFSETTO:-0500
TZNAME:EST
DTSTART:20201101T060000
END:STANDARD
BEGIN:DAYLIGHT
TZOFFSETFROM:-0500
TZOFFSETTO:-0400
TZNAME:EDT
DTSTART:20210314T070000
END:DAYLIGHT
BEGIN:STANDARD
TZOFFSETFROM:-0400
TZOFFSETTO:-0500
TZNAME:EST
DTSTART:20211107T060000
END:STANDARD
BEGIN:DAYLIGHT
TZOFFSETFROM:-0500
TZOFFSETTO:-0400
TZNAME:EDT
DTSTART:20220313T070000
END:DAYLIGHT
BEGIN:STANDARD
TZOFFSETFROM:-0400
TZOFFSETTO:-0500
TZNAME:EST
DTSTART:20221106T060000
END:STANDARD
END:VTIMEZONE
BEGIN:VEVENT
DTSTART;TZID=America/New_York:20210816T090000
DTEND;TZID=America/New_York:20210816T200000
DTSTAMP:20260421T134147
CREATED:20210527T160110Z
LAST-MODIFIED:20210527T160110Z
UID:10004367-1629104400-1629144000@newsuat.fordham.edu
SUMMARY:2021 Gridiron Club Golf Outing
DESCRIPTION:Please join Joe Conlin\, head football coach\, at the annual Fordham Football Gridiron Club Golf Outing! This is a great opportunity for the Fordham football family to gather for a day of golf and learn what’s in store for the fall season.
URL:https://newsuat.fordham.edu/event/2021-gridiron-club-golf-outing/
LOCATION:Leewood Golf Club\, 1 Leewood Drive\, Eastchester\, NY\, 10709\, United States
CATEGORIES:Athletics,Receptions
ORGANIZER;CN="Kara Field":MAILTO:kfield1@fordham.edu
END:VEVENT
END:VCALENDAR