BEGIN:VCALENDAR
VERSION:2.0
PRODID:-//Fordham Now - ECPv6.15.20//NONSGML v1.0//EN
CALSCALE:GREGORIAN
METHOD:PUBLISH
X-WR-CALNAME:Fordham Now
X-ORIGINAL-URL:https://newsuat.fordham.edu
X-WR-CALDESC:Events for Fordham Now
REFRESH-INTERVAL;VALUE=DURATION:PT1H
X-Robots-Tag:noindex
X-PUBLISHED-TTL:PT1H
BEGIN:VTIMEZONE
TZID:America/New_York
BEGIN:DAYLIGHT
TZOFFSETFROM:-0500
TZOFFSETTO:-0400
TZNAME:EDT
DTSTART:20200308T070000
END:DAYLIGHT
BEGIN:STANDARD
TZOFFSETFROM:-0400
TZOFFSETTO:-0500
TZNAME:EST
DTSTART:20201101T060000
END:STANDARD
BEGIN:DAYLIGHT
TZOFFSETFROM:-0500
TZOFFSETTO:-0400
TZNAME:EDT
DTSTART:20210314T070000
END:DAYLIGHT
BEGIN:STANDARD
TZOFFSETFROM:-0400
TZOFFSETTO:-0500
TZNAME:EST
DTSTART:20211107T060000
END:STANDARD
BEGIN:DAYLIGHT
TZOFFSETFROM:-0500
TZOFFSETTO:-0400
TZNAME:EDT
DTSTART:20220313T070000
END:DAYLIGHT
BEGIN:STANDARD
TZOFFSETFROM:-0400
TZOFFSETTO:-0500
TZNAME:EST
DTSTART:20221106T060000
END:STANDARD
END:VTIMEZONE
BEGIN:VEVENT
DTSTART;TZID=America/New_York:20210712T123000
DTEND;TZID=America/New_York:20210712T180000
DTSTAMP:20260421T154139
CREATED:20210609T135129Z
LAST-MODIFIED:20210609T135129Z
UID:10004368-1626093000-1626112800@newsuat.fordham.edu
SUMMARY:2021 Track & Field Golf Outing
DESCRIPTION:Please join Brian Horowitz\, head track and field coach\, at the annual Fordham Track and Field Golf Outing!
URL:https://newsuat.fordham.edu/event/2021-track-field-golf-outing/
LOCATION:Clearview Golf Course\, 202-12 Willets Point Blvd\, Bayside\, NY\, 11360\, United States
CATEGORIES:Athletics,Receptions,Reunions,Social
ORGANIZER;CN="Kara Field":MAILTO:kfield1@fordham.edu
END:VEVENT
END:VCALENDAR