BEGIN:VCALENDAR
VERSION:2.0
PRODID:-//Fordham Now - ECPv6.15.20//NONSGML v1.0//EN
CALSCALE:GREGORIAN
METHOD:PUBLISH
X-WR-CALNAME:Fordham Now
X-ORIGINAL-URL:https://newsuat.fordham.edu
X-WR-CALDESC:Events for Fordham Now
REFRESH-INTERVAL;VALUE=DURATION:PT1H
X-Robots-Tag:noindex
X-PUBLISHED-TTL:PT1H
BEGIN:VTIMEZONE
TZID:America/New_York
BEGIN:DAYLIGHT
TZOFFSETFROM:-0500
TZOFFSETTO:-0400
TZNAME:EDT
DTSTART:20190310T070000
END:DAYLIGHT
BEGIN:STANDARD
TZOFFSETFROM:-0400
TZOFFSETTO:-0500
TZNAME:EST
DTSTART:20191103T060000
END:STANDARD
BEGIN:DAYLIGHT
TZOFFSETFROM:-0500
TZOFFSETTO:-0400
TZNAME:EDT
DTSTART:20200308T070000
END:DAYLIGHT
BEGIN:STANDARD
TZOFFSETFROM:-0400
TZOFFSETTO:-0500
TZNAME:EST
DTSTART:20201101T060000
END:STANDARD
BEGIN:DAYLIGHT
TZOFFSETFROM:-0500
TZOFFSETTO:-0400
TZNAME:EDT
DTSTART:20210314T070000
END:DAYLIGHT
BEGIN:STANDARD
TZOFFSETFROM:-0400
TZOFFSETTO:-0500
TZNAME:EST
DTSTART:20211107T060000
END:STANDARD
END:VTIMEZONE
BEGIN:VEVENT
DTSTART;VALUE=DATE:20200404
DTEND;VALUE=DATE:20200406
DTSTAMP:20260422T221008
CREATED:20200221T142628Z
LAST-MODIFIED:20200221T142628Z
UID:10003926-1585958400-1586131199@newsuat.fordham.edu
SUMMARY:Fordham Crew at San Diego Crew Classic
DESCRIPTION:The San Diego Crew Classic is a rowing regatta known for its beautiful setting along the San Diego shoreline where viewers are able to soak up city views\, sunshine\, and have access to food trucks and local craft beers\, cider\, and wine. \nFordham will have a tent on Alumni Row in Crown Point Park on Mission Bay. You can watch the races with Fordham alumni\, fans\, and parents from our private tent along the beach. You’ll have easy access to the Jumbotron\, finish line\, beer garden\, VIP area\, food\, and bathrooms.
URL:https://newsuat.fordham.edu/event/fordham-crew-at-san-diego-crew-classic/
LOCATION:Mission Bay\, San Diego\, Crown Point Park\, San Diego
CATEGORIES:Athletics,Social
ORGANIZER;CN="Jordan Bowles":MAILTO:jbowles4@fordham.edu
END:VEVENT
BEGIN:VEVENT
DTSTART;TZID=America/New_York:20200404T103000
DTEND;TZID=America/New_York:20200404T120000
DTSTAMP:20260422T221008
CREATED:20200302T170512Z
LAST-MODIFIED:20200302T170512Z
UID:10003937-1585996200-1586001600@newsuat.fordham.edu
SUMMARY:CANCELED: 2020 Spring Football Game
DESCRIPTION:Spring football is here! \nEnjoy a pregame reception with football alumni\, fans\, and parents before the 2020 football spring game! This is a great opportunity to catch up with former teammates and hear what head coach Joe Conlin has to say for the upcoming season.
URL:https://newsuat.fordham.edu/event/2020-spring-football-game/
LOCATION:Jack Coffey Field\, Rose Hill Campus\, Bronx\, NY\, United States
CATEGORIES:Athletics,Receptions,Social
ATTACH;FMTTYPE=image/jpeg:https://newsuat.fordham.edu/wp-content/uploads/2020/02/spring-game-pic.jpg
ORGANIZER;CN="Kara Field":MAILTO:kfield1@fordham.edu
END:VEVENT
END:VCALENDAR