BEGIN:VCALENDAR
VERSION:2.0
PRODID:-//Fordham Now - ECPv6.15.20//NONSGML v1.0//EN
CALSCALE:GREGORIAN
METHOD:PUBLISH
X-ORIGINAL-URL:https://newsuat.fordham.edu
X-WR-CALDESC:Events for Fordham Now
REFRESH-INTERVAL;VALUE=DURATION:PT1H
X-Robots-Tag:noindex
X-PUBLISHED-TTL:PT1H
BEGIN:VTIMEZONE
TZID:America/New_York
BEGIN:DAYLIGHT
TZOFFSETFROM:-0500
TZOFFSETTO:-0400
TZNAME:EDT
DTSTART:20180311T070000
END:DAYLIGHT
BEGIN:STANDARD
TZOFFSETFROM:-0400
TZOFFSETTO:-0500
TZNAME:EST
DTSTART:20181104T060000
END:STANDARD
BEGIN:DAYLIGHT
TZOFFSETFROM:-0500
TZOFFSETTO:-0400
TZNAME:EDT
DTSTART:20190310T070000
END:DAYLIGHT
BEGIN:STANDARD
TZOFFSETFROM:-0400
TZOFFSETTO:-0500
TZNAME:EST
DTSTART:20191103T060000
END:STANDARD
BEGIN:DAYLIGHT
TZOFFSETFROM:-0500
TZOFFSETTO:-0400
TZNAME:EDT
DTSTART:20200308T070000
END:DAYLIGHT
BEGIN:STANDARD
TZOFFSETFROM:-0400
TZOFFSETTO:-0500
TZNAME:EST
DTSTART:20201101T060000
END:STANDARD
END:VTIMEZONE
BEGIN:VEVENT
DTSTART;TZID=America/New_York:20191103T180000
DTEND;TZID=America/New_York:20191103T203000
DTSTAMP:20260423T073635
CREATED:20191002T131410Z
LAST-MODIFIED:20191002T131410Z
UID:10007264-1572804000-1572813000@newsuat.fordham.edu
SUMMARY:Fordham Basketball Tip Off Dinner
DESCRIPTION:Join men’s and women’s Fordham basketball for their Tip Off Dinner to celebrate the beginning of their seasons! Hear from Jay Bilas\, Johnny Bach Award recipient\, ESPN host\, and college basketball analyst; and our emcee\, Jon Rothstein\, college basketball insider. \nYou will also get a chance to hear from head coaches Stephanie Gaitley and Jeff Neubauer as they introduce their teams and give you a season preview!
URL:https://newsuat.fordham.edu/event/fordham-basketball-tip-off-dinner/
LOCATION:The Water Club\, 500 E. 30th St\, New York\, NY\, 10016\, United States
CATEGORIES:Athletics,Receptions
ORGANIZER;CN="Allison Griffin":MAILTO:agriffin29@fordham.edu
END:VEVENT
BEGIN:VEVENT
DTSTART;TZID=America/New_York:20191104T160000
DTEND;TZID=America/New_York:20191104T183000
DTSTAMP:20260423T073635
CREATED:20191023T190443Z
LAST-MODIFIED:20191023T190443Z
UID:10007321-1572883200-1572892200@newsuat.fordham.edu
SUMMARY:Women's Athletic Panel
DESCRIPTION:Join us for the first annual Women’s Athletic Panel! This is a great opportunity to hear from female professionals who have excelled in their industries and learn how to get the most out of your collegiate career while at Fordham!
URL:https://newsuat.fordham.edu/event/womens-athletic-panel/
LOCATION:Bepler Commons\, Faber Hall\, Rose Hill Campus 441 E Fordham Rd\, Bronx\, NY\, 10458\, United States
CATEGORIES:Athletics,Networking and Career
ORGANIZER;CN="Kara Field":MAILTO:kfield1@fordham.edu
GEO:40.8619545;-73.8855064
X-APPLE-STRUCTURED-LOCATION;VALUE=URI;X-ADDRESS=Bepler Commons Faber Hall Rose Hill Campus 441 E Fordham Rd Bronx NY 10458 United States;X-APPLE-RADIUS=500;X-TITLE=Faber Hall\, Rose Hill Campus 441 E Fordham Rd:geo:-73.8855064,40.8619545
END:VEVENT
BEGIN:VEVENT
DTSTART;TZID=America/New_York:20191105T173000
DTEND;TZID=America/New_York:20191105T190000
DTSTAMP:20260423T073635
CREATED:20191011T151001Z
LAST-MODIFIED:20191011T151001Z
UID:10007281-1572975000-1572980400@newsuat.fordham.edu
SUMMARY:Basketball Home Opener Pregame Reception
DESCRIPTION:Let’s celebrate the Fordham women’s basketball and Fordham men’s basketball home openers! Join us at the Maroon Club and Rebounders Club Pregame Reception from 5:30 to 7 p.m. prior to the Fordham women’s vs. Notre Dame game and the Fordham men’s vs. St. Francis College Brooklyn game. \n7 p.m.: Women’s vs. Notre Dame Tipoff\n9 p.m.: Men’s vs. St. Francis College Brooklyn Tipoff
URL:https://newsuat.fordham.edu/event/basketball-home-opener-pregame-reception/
LOCATION:Bepler Commons\, Faber Hall\, 441 East Fordham Road\, Bronx\, NY\, 10458\, United States
CATEGORIES:Athletics
ORGANIZER;CN="Allison Griffin":MAILTO:agriffin29@fordham.edu
GEO:40.8612275;-73.8892354
X-APPLE-STRUCTURED-LOCATION;VALUE=URI;X-ADDRESS=Bepler Commons Faber Hall 441 East Fordham Road Bronx NY 10458 United States;X-APPLE-RADIUS=500;X-TITLE=441 East Fordham Road:geo:-73.8892354,40.8612275
END:VEVENT
BEGIN:VEVENT
DTSTART;TZID=America/New_York:20191116T110000
DTEND;TZID=America/New_York:20191116T150000
DTSTAMP:20260423T073635
CREATED:20191015T145500Z
LAST-MODIFIED:20191015T145500Z
UID:10007294-1573902000-1573916400@newsuat.fordham.edu
SUMMARY:Alumni Chapter of Phoenix: 2019 Homecoming Viewing Party
DESCRIPTION:Experience Homecoming from afar with fellow Rams! Join fellow alumni at Iron Chef to cheer on the Fordham Rams as they play the Holy Cross Crusaders at their homecoming game. Enjoy appetizers\, order a drink\, and relax with fellow alumni. \nPlease consider making a gift of $25 or more to support Fordham financial aid.
URL:https://newsuat.fordham.edu/event/alumni-chapter-of-phoenix-2019-homecoming-viewing-party/
LOCATION:Iron Chef\, 10810 North Tatum Blvd\, Phoenix\, AZ\, 85028\, United States
CATEGORIES:Athletics,Receptions,Social
ORGANIZER;CN="Alumni Chapter of Phoenix":MAILTO:natalie@arizonamediation.com
GEO:33.5839155;-111.9786036
X-APPLE-STRUCTURED-LOCATION;VALUE=URI;X-ADDRESS=Iron Chef 10810 North Tatum Blvd Phoenix AZ 85028 United States;X-APPLE-RADIUS=500;X-TITLE=10810 North Tatum Blvd:geo:-111.9786036,33.5839155
END:VEVENT
BEGIN:VEVENT
DTSTART;TZID=America/New_York:20191116T110000
DTEND;TZID=America/New_York:20191116T170000
DTSTAMP:20260423T073635
CREATED:20190827T211332Z
LAST-MODIFIED:20190827T211332Z
UID:10007165-1573902000-1573923600@newsuat.fordham.edu
SUMMARY:Fordham University Homecoming 2019
DESCRIPTION:Make plans to join us at Rose Hill for the Eighth Annual 5K Ram Run\, campus tours\, the Homecoming Tent on Edwards Parade\, and the match-up between the Fordham Rams and the Holy Cross Crusaders. The tent will open at 11 a.m.\, and kickoff will be at 1 p.m. \nExplore the fun of #FordhamHomecoming 2018! On Saturday\, September 22\, 2018\, Fordham University welcomed back over 5\,000 alumni\, students\, and friends for a fun-filled day at Rose Hill.
URL:https://newsuat.fordham.edu/event/fordham-university-homecoming-2019/
LOCATION:Edwards Parade\, 441 East Fordham Road\, Bronx\, NY\, 10458\, United States
CATEGORIES:Athletics,Receptions,Reunions,Social
ATTACH;FMTTYPE=image/png:https://newsuat.fordham.edu/wp-content/uploads/2019/08/HC-Event-Photo.png
ORGANIZER;CN="Taylor Palmer":MAILTO:tpalmer7@fordham.edu
GEO:40.8612275;-73.8892354
X-APPLE-STRUCTURED-LOCATION;VALUE=URI;X-ADDRESS=Edwards Parade 441 East Fordham Road Bronx NY 10458 United States;X-APPLE-RADIUS=500;X-TITLE=441 East Fordham Road:geo:-73.8892354,40.8612275
END:VEVENT
BEGIN:VEVENT
DTSTART;TZID=America/New_York:20191116T120000
DTEND;TZID=America/New_York:20191116T150000
DTSTAMP:20260423T073635
CREATED:20190930T143410Z
LAST-MODIFIED:20190930T143410Z
UID:10007242-1573905600-1573916400@newsuat.fordham.edu
SUMMARY:Alumni Chapter of Chicago: 2019 Homecoming Game Watch
DESCRIPTION:Experience Homecoming from afar with fellow Rams! Join fellow alumni at Cortland’s Garage to cheer on the Fordham Rams as they play the Holy Cross Crusaders at their homecoming game. Food and drinks can be purchased directly from the restaurant. \nPlease consider making a gift of $25 or more to support Fordham financial aid.
URL:https://newsuat.fordham.edu/event/alumni-chapter-of-chicago-2019-homecoming-game-watch/
LOCATION:Cortland’s Garage\, 1645 West Cortland Street\, Chicago\, IL\, 60622\, United States
CATEGORIES:Athletics,Social
ORGANIZER;CN="Alumni Chapter of Chicago":MAILTO:margaret.graver@gmail.com
GEO:41.9158313;-87.6695797
X-APPLE-STRUCTURED-LOCATION;VALUE=URI;X-ADDRESS=Cortland’s Garage 1645 West Cortland Street Chicago IL 60622 United States;X-APPLE-RADIUS=500;X-TITLE=1645 West Cortland Street:geo:-87.6695797,41.9158313
END:VEVENT
BEGIN:VEVENT
DTSTART;TZID=America/New_York:20191123T110000
DTEND;TZID=America/New_York:20191123T130000
DTSTAMP:20260423T073635
CREATED:20190806T205149Z
LAST-MODIFIED:20190806T205149Z
UID:10007127-1574506800-1574514000@newsuat.fordham.edu
SUMMARY:Maroon Club Tailgate: Fordham vs. Bucknell
DESCRIPTION:The Fordham Athletics Maroon Club invites you to our men’s football tailgate as the Rams play Bucknell. Join us two hours before kickoff for an open beer and wine bar\, tailgate food\, a sideline chat from one of our football coaches and the athletic director\, a DJ\, and various lawn games and activities!
URL:https://newsuat.fordham.edu/event/maroon-club-tailgate-fordham-vs-bucknell/
LOCATION:Parking Lot A Rose Hill Campus\, Fordham University\, Bronx\, NY\, 10458\, United States
CATEGORIES:Athletics
ORGANIZER;CN="Allison Griffin":MAILTO:agriffin29@fordham.edu
END:VEVENT
BEGIN:VEVENT
DTSTART;TZID=America/New_York:20191124T130000
DTEND;TZID=America/New_York:20191124T160000
DTSTAMP:20260423T073635
CREATED:20191030T142020Z
LAST-MODIFIED:20191030T142020Z
UID:10007333-1574600400-1574611200@newsuat.fordham.edu
SUMMARY:Alumni Chapter of Charlotte: Fordham vs. UNC Charlotte Basketball Game
DESCRIPTION:Join fellow alumni and friends to see the A-10 champion Fordham women’s basketball team play at UNC Charlotte. \nTickets for the game cost $5 and may be purchased by calling the UNC Charlotte ticket office at 704-687-4949. All seats are general admission. Our group will be cheering on the Rams from behind the Fordham team bench on the lower level.
URL:https://newsuat.fordham.edu/event/alumni-chapter-of-charlotte-fordham-vs-unc-charlotte-basketball-game/
LOCATION:Halton Arena\, 9201 University City Blvd.\, Charlotte\, NC\, 28223\, United States
CATEGORIES:Athletics,Social
ORGANIZER;CN="Alumni Chapter of Charlotte":MAILTO:ejmcwylie@aol.com
GEO:35.3058818;-80.7353002
X-APPLE-STRUCTURED-LOCATION;VALUE=URI;X-ADDRESS=Halton Arena 9201 University City Blvd. Charlotte NC 28223 United States;X-APPLE-RADIUS=500;X-TITLE=9201 University City Blvd.:geo:-80.7353002,35.3058818
END:VEVENT
END:VCALENDAR