BEGIN:VCALENDAR
VERSION:2.0
PRODID:-//Fordham Now - ECPv6.15.20//NONSGML v1.0//EN
CALSCALE:GREGORIAN
METHOD:PUBLISH
X-WR-CALNAME:Fordham Now
X-ORIGINAL-URL:https://newsuat.fordham.edu
X-WR-CALDESC:Events for Fordham Now
REFRESH-INTERVAL;VALUE=DURATION:PT1H
X-Robots-Tag:noindex
X-PUBLISHED-TTL:PT1H
BEGIN:VTIMEZONE
TZID:America/New_York
BEGIN:DAYLIGHT
TZOFFSETFROM:-0500
TZOFFSETTO:-0400
TZNAME:EDT
DTSTART:20180311T070000
END:DAYLIGHT
BEGIN:STANDARD
TZOFFSETFROM:-0400
TZOFFSETTO:-0500
TZNAME:EST
DTSTART:20181104T060000
END:STANDARD
BEGIN:DAYLIGHT
TZOFFSETFROM:-0500
TZOFFSETTO:-0400
TZNAME:EDT
DTSTART:20190310T070000
END:DAYLIGHT
BEGIN:STANDARD
TZOFFSETFROM:-0400
TZOFFSETTO:-0500
TZNAME:EST
DTSTART:20191103T060000
END:STANDARD
BEGIN:DAYLIGHT
TZOFFSETFROM:-0500
TZOFFSETTO:-0400
TZNAME:EDT
DTSTART:20200308T070000
END:DAYLIGHT
BEGIN:STANDARD
TZOFFSETFROM:-0400
TZOFFSETTO:-0500
TZNAME:EST
DTSTART:20201101T060000
END:STANDARD
END:VTIMEZONE
BEGIN:VEVENT
DTSTART;TZID=America/New_York:20191005T110000
DTEND;TZID=America/New_York:20191005T130000
DTSTAMP:20260423T112622
CREATED:20190913T144312Z
LAST-MODIFIED:20190913T144312Z
UID:10007192-1570273200-1570280400@newsuat.fordham.edu
SUMMARY:Fordham Football Tailgate at Yale
DESCRIPTION:Join us for a football tailgate before Fordham takes on Yale! It will be a wonderful fall Saturday spent with fellow Fordham fans cheering on our team!
URL:https://newsuat.fordham.edu/event/fordham-football-tailgate-at-yale/
LOCATION:Yale University\, 81 Central ave\, New Haven\, CT\, 06515\, United States
CATEGORIES:Athletics,Receptions,Social
ATTACH;FMTTYPE=image/jpeg:https://newsuat.fordham.edu/wp-content/uploads/2019/09/fordham-vs-yale.jpg
ORGANIZER;CN="Allison Griffin":MAILTO:agriffin29@fordham.edu
END:VEVENT
BEGIN:VEVENT
DTSTART;TZID=America/New_York:20191015T090000
DTEND;TZID=America/New_York:20191015T200000
DTSTAMP:20260423T112622
CREATED:20190620T180745Z
LAST-MODIFIED:20190620T180745Z
UID:10007103-1571130000-1571169600@newsuat.fordham.edu
SUMMARY:2019 Golf Classic
DESCRIPTION:Please join fellow Fordham alumni\, parents\, and friends at the 35th annual Fordham University Golf Classic! This exciting event benefits the Department of Athletics\, and a special gift will be made to the Campus Ministry program. See you on the links!
URL:https://newsuat.fordham.edu/event/2019-golf-classic/
LOCATION:Winged Foot Golf Club\, 851 Fenimore Rd\, Mamaroneck\, NY\, 10543\, United States
CATEGORIES:Athletics,Cultural,Receptions,Reunions,Social
ATTACH;FMTTYPE=image/jpeg:https://newsuat.fordham.edu/wp-content/uploads/2019/06/Winged-Foot-Golf-Club-West-Hole-9-702x336.jpg
ORGANIZER;CN="Kara Field":MAILTO:kfield1@fordham.edu
END:VEVENT
BEGIN:VEVENT
DTSTART;TZID=America/New_York:20191019T093000
DTEND;TZID=America/New_York:20191019T120000
DTSTAMP:20260423T112622
CREATED:20190919T134120Z
LAST-MODIFIED:20190919T134120Z
UID:10007211-1571477400-1571486400@newsuat.fordham.edu
SUMMARY:Women's Basketball Brunch & Baskets
DESCRIPTION:You are cordially invited by head coach Stephanie Gaitley and the Fordham women’s basketball team to our annual Brunch and Baskets! \nGet a sneak peak of the team as they practice while you enjoy brunch. Coach Gaitley will introduce the team and then present the 2019 A-10 Championship rings! \n9:30 a.m. | Brunch and Practice\n10:15 a.m. | Scrimmage\n11:00 a.m. | Coach Gaitley introduces the 2019–2020 women’s basketball team \nIf you would like to attend Brunch & Baskets and stay for the Maroon Club tailgate before the Fordham football game\, please select the Brunch and Baskets Package on the registration page! \nIf you have any questions\, please email Kara Field at kfield@fordham.edu.
URL:https://newsuat.fordham.edu/event/womens-basketball-brunch-baskets/
LOCATION:Rose Hill Gymnasium\, 441 East Fordham Road\, Bronx\, NY\, 10458\, United States
CATEGORIES:Athletics
ORGANIZER;CN="Kara Field":MAILTO:kfield1@fordham.edu
GEO:40.8612275;-73.8892354
X-APPLE-STRUCTURED-LOCATION;VALUE=URI;X-ADDRESS=Rose Hill Gymnasium 441 East Fordham Road Bronx NY 10458 United States;X-APPLE-RADIUS=500;X-TITLE=441 East Fordham Road:geo:-73.8892354,40.8612275
END:VEVENT
BEGIN:VEVENT
DTSTART;TZID=America/New_York:20191019T110000
DTEND;TZID=America/New_York:20191019T130000
DTSTAMP:20260423T112622
CREATED:20190806T205106Z
LAST-MODIFIED:20190806T205106Z
UID:10007130-1571482800-1571490000@newsuat.fordham.edu
SUMMARY:Maroon Club Tailgate: Fordham vs. Lehigh
DESCRIPTION:The Fordham Athletics Maroon Club invites you to our men’s football tailgate as the Rams play Lehigh. Join us two hours before kickoff for an open beer and wine bar\, tailgate food\, a sideline chat from one of our football coaches and the athletic director\, a DJ\, and various lawn games and activities!
URL:https://newsuat.fordham.edu/event/maroon-club-tailgate-fordham-vs-lehigh/
LOCATION:Parking Lot A Rose Hill Campus\, Fordham University\, Bronx\, NY\, 10458\, United States
CATEGORIES:Athletics
ATTACH;FMTTYPE=image/jpeg:https://newsuat.fordham.edu/wp-content/uploads/2019/08/Football-5-2.jpg
ORGANIZER;CN="Allison Griffin":MAILTO:agriffin29@fordham.edu
END:VEVENT
BEGIN:VEVENT
DTSTART;TZID=America/New_York:20191019T110000
DTEND;TZID=America/New_York:20191019T130000
DTSTAMP:20260423T112622
CREATED:20190911T142443Z
LAST-MODIFIED:20190911T142443Z
UID:10007194-1571482800-1571490000@newsuat.fordham.edu
SUMMARY:Alumni Chapter of Long Island: 2019 Lehigh Tailgate
DESCRIPTION:Come tailgate with fellow Long Island alumni and support the Fordham Rams as they take on Lehigh at home! \nTo find our group\, look for the Long Island Chapter banner in the parking lot. \nPlease consider making a gift of $25 or more to support the Fordham Club of Long Island Scholarship Fund.
URL:https://newsuat.fordham.edu/event/alumni-chapter-of-long-island-2019-lehigh-tailgate/
LOCATION:Parking Lot A Rose Hill Campus\, Fordham University\, Bronx\, NY\, 10458\, United States
CATEGORIES:Athletics,Social
ORGANIZER;CN="Alumni Chapter of Long Island":MAILTO:phillipcicione@gmail.com
END:VEVENT
BEGIN:VEVENT
DTSTART;TZID=America/New_York:20191019T110000
DTEND;TZID=America/New_York:20191019T130000
DTSTAMP:20260423T112622
CREATED:20191008T141320Z
LAST-MODIFIED:20191008T141320Z
UID:10007268-1571482800-1571490000@newsuat.fordham.edu
SUMMARY:Brando Tailgate
DESCRIPTION:Join us for a Brando tailgate in conjunction with the Maroon Club before Fordham plays Lehigh! \nIt will be a great day to reminisce about Fordham football before kickoff. Also hear about the “Brando Forever” campaign in memory of Nick Brandemarti\, GABELLI ’01. \nPlease note: If you already made a $1\,000+ gift or pledge toward this campaign\, you will receive complimentary access to this tailgate! Please email Kara Field at kfield1@fordham.edu for more information.
URL:https://newsuat.fordham.edu/event/brando-tailgate/
LOCATION:Parking Lot A Rose Hill Campus\, Fordham University\, Bronx\, NY\, 10458\, United States
CATEGORIES:Athletics
ORGANIZER;CN="Allison Griffin":MAILTO:agriffin29@fordham.edu
END:VEVENT
END:VCALENDAR