BEGIN:VCALENDAR
VERSION:2.0
PRODID:-//Fordham Now - ECPv6.15.20//NONSGML v1.0//EN
CALSCALE:GREGORIAN
METHOD:PUBLISH
X-ORIGINAL-URL:https://newsuat.fordham.edu
X-WR-CALDESC:Events for Fordham Now
REFRESH-INTERVAL;VALUE=DURATION:PT1H
X-Robots-Tag:noindex
X-PUBLISHED-TTL:PT1H
BEGIN:VTIMEZONE
TZID:America/New_York
BEGIN:DAYLIGHT
TZOFFSETFROM:-0500
TZOFFSETTO:-0400
TZNAME:EDT
DTSTART:20180311T070000
END:DAYLIGHT
BEGIN:STANDARD
TZOFFSETFROM:-0400
TZOFFSETTO:-0500
TZNAME:EST
DTSTART:20181104T060000
END:STANDARD
BEGIN:DAYLIGHT
TZOFFSETFROM:-0500
TZOFFSETTO:-0400
TZNAME:EDT
DTSTART:20190310T070000
END:DAYLIGHT
BEGIN:STANDARD
TZOFFSETFROM:-0400
TZOFFSETTO:-0500
TZNAME:EST
DTSTART:20191103T060000
END:STANDARD
BEGIN:DAYLIGHT
TZOFFSETFROM:-0500
TZOFFSETTO:-0400
TZNAME:EDT
DTSTART:20200308T070000
END:DAYLIGHT
BEGIN:STANDARD
TZOFFSETFROM:-0400
TZOFFSETTO:-0500
TZNAME:EST
DTSTART:20201101T060000
END:STANDARD
END:VTIMEZONE
BEGIN:VEVENT
DTSTART;TZID=America/New_York:20190905T183000
DTEND;TZID=America/New_York:20190905T213000
DTSTAMP:20260423T131643
CREATED:20190618T135221Z
LAST-MODIFIED:20190618T135221Z
UID:10007100-1567708200-1567719000@newsuat.fordham.edu
SUMMARY:Football Dinner
DESCRIPTION:Join us as we celebrate Fordham football’s 30th anniversary of being an NCAA Division I program; present the 2019 Walsh Award to Gerry Crotty\, FCRH ’73; present the 2019 Mara Family Award to Joe Jordan\, GABELLI ’74; and honor the 1969 team!
URL:https://newsuat.fordham.edu/event/football-dinner/
LOCATION:The Water Club\, 500 E. 30th St\, New York\, NY\, 10016\, United States
CATEGORIES:Athletics,Receptions
ORGANIZER;CN="Kara Field":MAILTO:kfield1@fordham.edu
END:VEVENT
BEGIN:VEVENT
DTSTART;TZID=America/New_York:20190921T160000
DTEND;TZID=America/New_York:20190921T210000
DTSTAMP:20260423T131643
CREATED:20190827T193431Z
LAST-MODIFIED:20190827T193431Z
UID:10007156-1569081600-1569099600@newsuat.fordham.edu
SUMMARY:Alumni Chapter of Long Island: Fordham vs. Stony Brook Tailgate and Game Tickets
DESCRIPTION:Come tailgate with fellow Long Island alumni and cheer on our Fordham Rams as they take on the Stony Brook Seawolves! Look for the Alumni Chapter of Long Island banner. \nA six-foot hero\, beer\, and other beverages will be available\, but all attending are welcome and encouraged to bring food and beverages\, as well! \nIf registration has closed\, please email Phil Cicione at phillipcicione@gmail.com.
URL:https://newsuat.fordham.edu/event/alumni-chapter-of-long-island-fordham-vs-stony-brook-tailgate-and-game-tickets/
LOCATION:Stony Brook University Parking Lot\, 100 Nicolls Road\, Stony Brook\, NY\, 11794\, United States
CATEGORIES:Athletics,Social
ORGANIZER;CN="Alumni Chapter of Long Island":MAILTO:phillipcicione@gmail.com
END:VEVENT
BEGIN:VEVENT
DTSTART;TZID=America/New_York:20190922T101500
DTEND;TZID=America/New_York:20190922T150000
DTSTAMP:20260423T131643
CREATED:20190827T193621Z
LAST-MODIFIED:20190827T193621Z
UID:10007169-1569147300-1569164400@newsuat.fordham.edu
SUMMARY:2019 Women's Soccer Alumnae Day
DESCRIPTION:Join head coach Jessica Clinton and the Rams for the 2019 Women’s Soccer Alumnae Day! Catch up with former teammates and supporters of Fordham women’s soccer and cheer for the Rams as they play St. Bonaventure!
URL:https://newsuat.fordham.edu/event/2019-womens-soccer-alumnae-day/
LOCATION:Jack Coffey Field\, Rose Hill Campus\, Bronx\, NY\, United States
CATEGORIES:Athletics,Receptions,Reunions
ATTACH;FMTTYPE=image/jpeg:https://newsuat.fordham.edu/wp-content/uploads/2019/08/C_WSoccer_Athletics.jpg
ORGANIZER;CN="Kara Field":MAILTO:kfield1@fordham.edu
END:VEVENT
BEGIN:VEVENT
DTSTART;TZID=America/New_York:20190928T110000
DTEND;TZID=America/New_York:20190928T130000
DTSTAMP:20260423T131643
CREATED:20190806T203615Z
LAST-MODIFIED:20190806T203615Z
UID:10007129-1569668400-1569675600@newsuat.fordham.edu
SUMMARY:Maroon Club Tailgate: Fordham vs. Richmond
DESCRIPTION:The Fordham Athletics Maroon Club invites you to our men’s football tailgate as the Rams play Richmond. Join us two hours before kickoff for an open beer and wine bar\, tailgate food\, a sideline chat from one of our football coaches and the athletic director\, a DJ\, and various lawn games and activities!
URL:https://newsuat.fordham.edu/event/maroon-club-tailgate-fordham-vs-richmond/
LOCATION:Parking Lot A Rose Hill Campus\, Fordham University\, Bronx\, NY\, 10458\, United States
CATEGORIES:Athletics
ATTACH;FMTTYPE=image/jpeg:https://newsuat.fordham.edu/wp-content/uploads/2019/08/Football-5-1.jpg
ORGANIZER;CN="Allison Griffin":MAILTO:agriffin29@fordham.edu
END:VEVENT
BEGIN:VEVENT
DTSTART;TZID=America/New_York:20190928T110000
DTEND;TZID=America/New_York:20190928T130000
DTSTAMP:20260423T131643
CREATED:20190919T131509Z
LAST-MODIFIED:20190919T131509Z
UID:10007212-1569668400-1569675600@newsuat.fordham.edu
SUMMARY:Tom Dewey Recognition Pregame Reception
DESCRIPTION:Join us at the Maroon Club tailgate to celebrate former head coach\, Tom Dewey\, on his retirement\, and enjoy food and beverages with fellow Rams! Tom Dewey coached the Fordham track and field and cross country teams for 39 years.
URL:https://newsuat.fordham.edu/event/tom-dewey-recognition-pregame-reception/
LOCATION:Parking Lot A Rose Hill Campus\, Fordham University\, Bronx\, NY\, 10458\, United States
CATEGORIES:Athletics,Receptions
ORGANIZER;CN="Kara Field":MAILTO:kfield1@fordham.edu
END:VEVENT
BEGIN:VEVENT
DTSTART;TZID=America/New_York:20190928T173000
DTEND;TZID=America/New_York:20190928T210000
DTSTAMP:20260423T131643
CREATED:20190827T195630Z
LAST-MODIFIED:20190827T195630Z
UID:10007168-1569691800-1569704400@newsuat.fordham.edu
SUMMARY:2019 Rowing Dinner
DESCRIPTION:Join us for the 2019 rowing dinner at Travers Island! Hear from head coach Ted Bonanno about the 2019–2020 season and enjoy catching up with former teammates and rowing supporters!
URL:https://newsuat.fordham.edu/event/2019-rowing-dinner/
LOCATION:Travers Island\, 31 Shore Rd\, Pelham Manor\, NY\, 10803\, United States
CATEGORIES:Athletics,Receptions
ATTACH;FMTTYPE=image/png:https://newsuat.fordham.edu/wp-content/uploads/2019/08/rowing.png
ORGANIZER;CN="Kara Field":MAILTO:kfield1@fordham.edu
END:VEVENT
END:VCALENDAR