BEGIN:VCALENDAR
VERSION:2.0
PRODID:-//Fordham Now - ECPv6.15.20//NONSGML v1.0//EN
CALSCALE:GREGORIAN
METHOD:PUBLISH
X-ORIGINAL-URL:https://newsuat.fordham.edu
X-WR-CALDESC:Events for Fordham Now
REFRESH-INTERVAL;VALUE=DURATION:PT1H
X-Robots-Tag:noindex
X-PUBLISHED-TTL:PT1H
BEGIN:VTIMEZONE
TZID:America/New_York
BEGIN:DAYLIGHT
TZOFFSETFROM:-0500
TZOFFSETTO:-0400
TZNAME:EDT
DTSTART:20180311T070000
END:DAYLIGHT
BEGIN:STANDARD
TZOFFSETFROM:-0400
TZOFFSETTO:-0500
TZNAME:EST
DTSTART:20181104T060000
END:STANDARD
BEGIN:DAYLIGHT
TZOFFSETFROM:-0500
TZOFFSETTO:-0400
TZNAME:EDT
DTSTART:20190310T070000
END:DAYLIGHT
BEGIN:STANDARD
TZOFFSETFROM:-0400
TZOFFSETTO:-0500
TZNAME:EST
DTSTART:20191103T060000
END:STANDARD
BEGIN:DAYLIGHT
TZOFFSETFROM:-0500
TZOFFSETTO:-0400
TZNAME:EDT
DTSTART:20200308T070000
END:DAYLIGHT
BEGIN:STANDARD
TZOFFSETFROM:-0400
TZOFFSETTO:-0500
TZNAME:EST
DTSTART:20201101T060000
END:STANDARD
END:VTIMEZONE
BEGIN:VEVENT
DTSTART;TZID=America/New_York:20190715T133000
DTEND;TZID=America/New_York:20190715T210000
DTSTAMP:20260423T171209
CREATED:20190618T135433Z
LAST-MODIFIED:20190618T135433Z
UID:10007101-1563197400-1563224400@newsuat.fordham.edu
SUMMARY:12th Annual Fordham Track and Field Outing
DESCRIPTION:Please join head Fordham track and field coach Tom Dewey and Fordham track and field alumni at the 12th annual Fordham track and field alumni golf outing!
URL:https://newsuat.fordham.edu/event/12th-annual-fordham-track-and-field-outing/
LOCATION:Clearview Golf Course\, 202-12 Willets Point Blvd\, Bayside\, NY\, 11360\, United States
CATEGORIES:Athletics,Networking and Career
ORGANIZER;CN="Allison Griffin":MAILTO:agriffin29@fordham.edu
END:VEVENT
BEGIN:VEVENT
DTSTART;TZID=America/New_York:20190729T093000
DTEND;TZID=America/New_York:20190729T203000
DTSTAMP:20260423T171209
CREATED:20190617T191614Z
LAST-MODIFIED:20190617T191614Z
UID:10007099-1564392600-1564432200@newsuat.fordham.edu
SUMMARY:Rescheduled 26th Annual Gridiron Golf Outing
DESCRIPTION:Join fellow Fordham football supporters on the links for the annual Gridiron Golf Outing! This is a great opportunity to catch up with fellow football fans and hear from Head Coach Joe Conlin! \nThis event was rescheduled from May 13 to July 29.
URL:https://newsuat.fordham.edu/event/rescheduled-26th-annual-gridiron-golf-outing/
LOCATION:Leewood Golf Club\, 1 Leewood Drive\, Eastchester\, NY\, 10709\, United States
CATEGORIES:Athletics,Receptions,Reunions
ORGANIZER;CN="Kara Field":MAILTO:kfield1@fordham.edu
END:VEVENT
END:VCALENDAR