BEGIN:VCALENDAR
VERSION:2.0
PRODID:-//Fordham Now - ECPv6.15.20//NONSGML v1.0//EN
CALSCALE:GREGORIAN
METHOD:PUBLISH
X-ORIGINAL-URL:https://newsuat.fordham.edu
X-WR-CALDESC:Events for Fordham Now
REFRESH-INTERVAL;VALUE=DURATION:PT1H
X-Robots-Tag:noindex
X-PUBLISHED-TTL:PT1H
BEGIN:VTIMEZONE
TZID:America/New_York
BEGIN:DAYLIGHT
TZOFFSETFROM:-0500
TZOFFSETTO:-0400
TZNAME:EDT
DTSTART:20180311T070000
END:DAYLIGHT
BEGIN:STANDARD
TZOFFSETFROM:-0400
TZOFFSETTO:-0500
TZNAME:EST
DTSTART:20181104T060000
END:STANDARD
BEGIN:DAYLIGHT
TZOFFSETFROM:-0500
TZOFFSETTO:-0400
TZNAME:EDT
DTSTART:20190310T070000
END:DAYLIGHT
BEGIN:STANDARD
TZOFFSETFROM:-0400
TZOFFSETTO:-0500
TZNAME:EST
DTSTART:20191103T060000
END:STANDARD
BEGIN:DAYLIGHT
TZOFFSETFROM:-0500
TZOFFSETTO:-0400
TZNAME:EDT
DTSTART:20200308T070000
END:DAYLIGHT
BEGIN:STANDARD
TZOFFSETFROM:-0400
TZOFFSETTO:-0500
TZNAME:EST
DTSTART:20201101T060000
END:STANDARD
END:VTIMEZONE
BEGIN:VEVENT
DTSTART;TZID=America/New_York:20190402T180000
DTEND;TZID=America/New_York:20190402T210000
DTSTAMP:20260423T223739
CREATED:20190109T142011Z
LAST-MODIFIED:20190109T142011Z
UID:10006819-1554228000-1554238800@newsuat.fordham.edu
SUMMARY:Fordham Baseball vs. Siena
DESCRIPTION:Join us as Fordham baseball takes on Siena College. \nAdmission is free.
URL:https://newsuat.fordham.edu/event/fordham-baseball-vs-siena/
LOCATION:Houlihan Park\, Fordham University\, Bronx\, NY\, 10458
CATEGORIES:Athletics
ORGANIZER;CN="Jasmine Cannady":MAILTO:jcannady@fordham.edu
END:VEVENT
BEGIN:VEVENT
DTSTART;TZID=America/New_York:20190405T150000
DTEND;TZID=America/New_York:20190405T180000
DTSTAMP:20260423T223739
CREATED:20190109T142012Z
LAST-MODIFIED:20190109T142012Z
UID:10006820-1554476400-1554487200@newsuat.fordham.edu
SUMMARY:Fordham Baseball vs. Saint Joseph's
DESCRIPTION:Join us as Fordham baseball takes on Saint Joseph’s University. \nAdmission is free.
URL:https://newsuat.fordham.edu/event/fordham-baseball-vs-saint-josephs/
LOCATION:Houlihan Park\, Fordham University\, Bronx\, NY\, 10458
CATEGORIES:Athletics
ORGANIZER;CN="Jasmine Cannady":MAILTO:jcannady@fordham.edu
END:VEVENT
BEGIN:VEVENT
DTSTART;TZID=America/New_York:20190406T060000
DTEND;TZID=America/New_York:20190407T170000
DTSTAMP:20260423T223739
CREATED:20190319T133749Z
LAST-MODIFIED:20190319T133749Z
UID:10006988-1554530400-1554656400@newsuat.fordham.edu
SUMMARY:San Diego Crew Classic
DESCRIPTION:Come join fellow Fordham alumni as we cheer on our Fordham crew team! Fordham will have a private tent on Alumni Row\, where you can watch the races with your fellow alumni from along the beach. You’ll have easy access to the finish line\, the beer garden\, the VIP area\, food\, bathrooms\, merchandise tents\, and the Jumbotron showing the races from start to finish.
URL:https://newsuat.fordham.edu/event/san-diego-crew-classic/
LOCATION:Mission Bay\, San Diego\, Crown Point Park\, San Diego
CATEGORIES:Athletics
ATTACH;FMTTYPE=image/jpeg:https://newsuat.fordham.edu/wp-content/uploads/2019/03/A10-1.jpg
ORGANIZER;CN="Jordan Bowles":MAILTO:jbowles4@fordham.edu
END:VEVENT
BEGIN:VEVENT
DTSTART;TZID=America/New_York:20190406T120000
DTEND;TZID=America/New_York:20190406T163000
DTSTAMP:20260423T223739
CREATED:20190109T142413Z
LAST-MODIFIED:20190109T142413Z
UID:10006831-1554552000-1554568200@newsuat.fordham.edu
SUMMARY:Doubleheader: Fordham Softball vs. Dayton
DESCRIPTION:Join us as Fordham softball takes on the University of Dayton in a doubleheader. \nAdmission is free.
URL:https://newsuat.fordham.edu/event/doubleheader-fordham-softball-vs-dayton/
LOCATION:Bahoshy Field\, Fordham University\, Bronx\, NY\, 10458\, United States
CATEGORIES:Athletics
ORGANIZER;CN="Jasmine Cannady":MAILTO:jcannady@fordham.edu
END:VEVENT
BEGIN:VEVENT
DTSTART;TZID=America/New_York:20190406T140000
DTEND;TZID=America/New_York:20190406T170000
DTSTAMP:20260423T223739
CREATED:20190109T142014Z
LAST-MODIFIED:20190109T142014Z
UID:10006821-1554559200-1554570000@newsuat.fordham.edu
SUMMARY:Fordham Baseball vs. Saint Joseph's
DESCRIPTION:Join us as Fordham baseball takes on Saint Joseph’s University. \nAdmission is free.
URL:https://newsuat.fordham.edu/event/fordham-baseball-vs-saint-josephs-2/
LOCATION:Houlihan Park\, Fordham University\, Bronx\, NY\, 10458
CATEGORIES:Athletics
ORGANIZER;CN="Jasmine Cannady":MAILTO:jcannady@fordham.edu
END:VEVENT
BEGIN:VEVENT
DTSTART;TZID=America/New_York:20190407T120000
DTEND;TZID=America/New_York:20190407T140000
DTSTAMP:20260423T223739
CREATED:20190109T142414Z
LAST-MODIFIED:20190109T142414Z
UID:10006832-1554638400-1554645600@newsuat.fordham.edu
SUMMARY:Fordham Softball vs. Dayton
DESCRIPTION:Join us as Fordham softball takes on the University of Dayton. \nAdmission is free.
URL:https://newsuat.fordham.edu/event/fordham-softball-vs-dayton/
LOCATION:Bahoshy Field\, Fordham University\, Bronx\, NY\, 10458\, United States
CATEGORIES:Athletics
ORGANIZER;CN="Jasmine Cannady":MAILTO:jcannady@fordham.edu
END:VEVENT
BEGIN:VEVENT
DTSTART;TZID=America/New_York:20190407T120000
DTEND;TZID=America/New_York:20190407T150000
DTSTAMP:20260423T223739
CREATED:20190109T142015Z
LAST-MODIFIED:20190109T142015Z
UID:10006822-1554638400-1554649200@newsuat.fordham.edu
SUMMARY:Fordham Baseball vs. Saint Joseph's
DESCRIPTION:Join us as Fordham baseball takes on Saint Joseph’s University. \nAdmission is free.
URL:https://newsuat.fordham.edu/event/fordham-baseball-vs-saint-josephs-3/
LOCATION:Houlihan Park\, Fordham University\, Bronx\, NY\, 10458
CATEGORIES:Athletics
ORGANIZER;CN="Jasmine Cannady":MAILTO:jcannady@fordham.edu
END:VEVENT
BEGIN:VEVENT
DTSTART;TZID=America/New_York:20190409T153000
DTEND;TZID=America/New_York:20190409T183000
DTSTAMP:20260423T223739
CREATED:20190109T142017Z
LAST-MODIFIED:20190109T142017Z
UID:10006823-1554823800-1554834600@newsuat.fordham.edu
SUMMARY:Fordham Baseball vs. Columbia
DESCRIPTION:Join us as Fordham baseball takes on Columbia University. \nAdmission is free.
URL:https://newsuat.fordham.edu/event/fordham-baseball-vs-columbia/
LOCATION:Houlihan Park\, Fordham University\, Bronx\, NY\, 10458
CATEGORIES:Athletics
ORGANIZER;CN="Jasmine Cannady":MAILTO:jcannady@fordham.edu
END:VEVENT
BEGIN:VEVENT
DTSTART;TZID=America/New_York:20190413T113000
DTEND;TZID=America/New_York:20190413T133000
DTSTAMP:20260423T223739
CREATED:20190325T153822Z
LAST-MODIFIED:20190325T153822Z
UID:10006991-1555155000-1555162200@newsuat.fordham.edu
SUMMARY:2019 Fordham Football Spring Game Barbecue
DESCRIPTION:Enjoy a barbecue with football alumni\, fans\, and parents before the 2019 Football Spring Game! This is a great opportunity to hear what head coach Joe Conlin has to say for the 2019 season.
URL:https://newsuat.fordham.edu/event/2019-fordham-football-spring-game-barbecue/
LOCATION:Jack Coffey Field\, Rose Hill Campus\, Bronx\, NY\, United States
CATEGORIES:Athletics,Receptions,Reunions,Social
ORGANIZER;CN="Kara Field":MAILTO:kfield1@fordham.edu
END:VEVENT
BEGIN:VEVENT
DTSTART;TZID=America/New_York:20190413T120000
DTEND;TZID=America/New_York:20190413T163000
DTSTAMP:20260423T223739
CREATED:20190109T142416Z
LAST-MODIFIED:20190109T142416Z
UID:10006833-1555156800-1555173000@newsuat.fordham.edu
SUMMARY:Doubleheader: Fordham Softball vs. Saint Louis
DESCRIPTION:Join us as Fordham softball takes on Saint Louis University in a doubleheader. \nAdmission is free.
URL:https://newsuat.fordham.edu/event/doubleheader-fordham-softball-vs-saint-louis/
LOCATION:Bahoshy Field\, Fordham University\, Bronx\, NY\, 10458\, United States
CATEGORIES:Athletics
ORGANIZER;CN="Jasmine Cannady":MAILTO:jcannady@fordham.edu
END:VEVENT
BEGIN:VEVENT
DTSTART;TZID=America/New_York:20190414T120000
DTEND;TZID=America/New_York:20190414T140000
DTSTAMP:20260423T223739
CREATED:20190109T142417Z
LAST-MODIFIED:20190109T142417Z
UID:10006834-1555243200-1555250400@newsuat.fordham.edu
SUMMARY:Fordham Softball vs. Saint Louis
DESCRIPTION:Join us as Fordham softball takes on Saint Louis University. \nAdmission is free.
URL:https://newsuat.fordham.edu/event/fordham-softball-vs-saint-louis/
LOCATION:Bahoshy Field\, Fordham University\, Bronx\, NY\, 10458\, United States
CATEGORIES:Athletics
ORGANIZER;CN="Jasmine Cannady":MAILTO:jcannady@fordham.edu
END:VEVENT
BEGIN:VEVENT
DTSTART;TZID=America/New_York:20190417T150000
DTEND;TZID=America/New_York:20190417T170000
DTSTAMP:20260423T223739
CREATED:20190109T142418Z
LAST-MODIFIED:20190109T142418Z
UID:10006835-1555513200-1555520400@newsuat.fordham.edu
SUMMARY:Fordham Softball vs. Hofstra
DESCRIPTION:Join us as Fordham softball takes on Hofstra University. \nAdmission is free.
URL:https://newsuat.fordham.edu/event/fordham-softball-vs-hofstra/
LOCATION:Bahoshy Field\, Fordham University\, Bronx\, NY\, 10458\, United States
CATEGORIES:Athletics
ORGANIZER;CN="Jasmine Cannady":MAILTO:jcannady@fordham.edu
END:VEVENT
BEGIN:VEVENT
DTSTART;TZID=America/New_York:20190418T150000
DTEND;TZID=America/New_York:20190418T180000
DTSTAMP:20260423T223739
CREATED:20190109T142018Z
LAST-MODIFIED:20190109T142018Z
UID:10006824-1555599600-1555610400@newsuat.fordham.edu
SUMMARY:Fordham Baseball vs. Saint Louis
DESCRIPTION:Join us as Fordham baseball takes on Saint Louis University. \nAdmission is free.
URL:https://newsuat.fordham.edu/event/fordham-baseball-vs-saint-louis/
LOCATION:Houlihan Park\, Fordham University\, Bronx\, NY\, 10458
CATEGORIES:Athletics
ORGANIZER;CN="Jasmine Cannady":MAILTO:jcannady@fordham.edu
END:VEVENT
BEGIN:VEVENT
DTSTART;TZID=America/New_York:20190419T110000
DTEND;TZID=America/New_York:20190419T130000
DTSTAMP:20260423T223739
CREATED:20190109T142420Z
LAST-MODIFIED:20190109T142420Z
UID:10006836-1555671600-1555678800@newsuat.fordham.edu
SUMMARY:Fordham Softball vs. Saint Joseph's
DESCRIPTION:Join us as Fordham softball takes on Saint Joseph’s University. \nAdmission is free.
URL:https://newsuat.fordham.edu/event/fordham-softball-vs-saint-josephs/
LOCATION:Bahoshy Field\, Fordham University\, Bronx\, NY\, 10458\, United States
CATEGORIES:Athletics
ORGANIZER;CN="Jasmine Cannady":MAILTO:jcannady@fordham.edu
END:VEVENT
BEGIN:VEVENT
DTSTART;TZID=America/New_York:20190419T110000
DTEND;TZID=America/New_York:20190419T140000
DTSTAMP:20260423T223739
CREATED:20190109T142020Z
LAST-MODIFIED:20190109T142020Z
UID:10006825-1555671600-1555682400@newsuat.fordham.edu
SUMMARY:Fordham Baseball vs. Saint Louis
DESCRIPTION:Join us as Fordham baseball takes on Saint Louis University. \nAdmission is free.
URL:https://newsuat.fordham.edu/event/fordham-baseball-vs-saint-louis-2/
LOCATION:Houlihan Park\, Fordham University\, Bronx\, NY\, 10458
CATEGORIES:Athletics
ORGANIZER;CN="Jasmine Cannady":MAILTO:jcannady@fordham.edu
END:VEVENT
BEGIN:VEVENT
DTSTART;TZID=America/New_York:20190420T120000
DTEND;TZID=America/New_York:20190420T150000
DTSTAMP:20260423T223739
CREATED:20190109T142022Z
LAST-MODIFIED:20190109T142022Z
UID:10006826-1555761600-1555772400@newsuat.fordham.edu
SUMMARY:Fordham Baseball vs. Saint Louis
DESCRIPTION:Join us as Fordham baseball takes on Saint Louis University. \nAdmission is free.
URL:https://newsuat.fordham.edu/event/fordham-baseball-vs-saint-louis-3/
LOCATION:Houlihan Park\, Fordham University\, Bronx\, NY\, 10458
CATEGORIES:Athletics
ORGANIZER;CN="Jasmine Cannady":MAILTO:jcannady@fordham.edu
END:VEVENT
BEGIN:VEVENT
DTSTART;TZID=America/New_York:20190420T120000
DTEND;TZID=America/New_York:20190420T163000
DTSTAMP:20260423T223739
CREATED:20190109T142421Z
LAST-MODIFIED:20190109T142421Z
UID:10006837-1555761600-1555777800@newsuat.fordham.edu
SUMMARY:Doubleheader: Fordham Softball vs. Saint Joseph's
DESCRIPTION:Join us as Fordham softball takes on Saint Joseph’s University in a doubleheader. \nAdmission is free.
URL:https://newsuat.fordham.edu/event/doubleheader-fordham-softball-vs-saint-josephs/
LOCATION:Bahoshy Field\, Fordham University\, Bronx\, NY\, 10458\, United States
CATEGORIES:Athletics
ORGANIZER;CN="Jasmine Cannady":MAILTO:jcannady@fordham.edu
END:VEVENT
BEGIN:VEVENT
DTSTART;TZID=America/New_York:20190424T160000
DTEND;TZID=America/New_York:20190424T180000
DTSTAMP:20260423T223739
CREATED:20190109T142422Z
LAST-MODIFIED:20190109T142422Z
UID:10006838-1556121600-1556128800@newsuat.fordham.edu
SUMMARY:Fordham Softball vs. Providence
DESCRIPTION:Join us as Fordham softball takes on Providence College. \nAdmission is free.
URL:https://newsuat.fordham.edu/event/fordham-softball-vs-providence/
LOCATION:Bahoshy Field\, Fordham University\, Bronx\, NY\, 10458\, United States
CATEGORIES:Athletics
ORGANIZER;CN="Jasmine Cannady":MAILTO:jcannady@fordham.edu
END:VEVENT
BEGIN:VEVENT
DTSTART;TZID=America/New_York:20190427T180000
DTEND;TZID=America/New_York:20190427T180000
DTSTAMP:20260423T223739
CREATED:20181107T134223Z
LAST-MODIFIED:20181107T134223Z
UID:10006686-1556388000-1556388000@newsuat.fordham.edu
SUMMARY:Fordham Athletics 2019 Gala and Hall of Fame Ceremony
DESCRIPTION:Please join us as we commemorate 10 Fordham Rams who will be inducted into the Fordham Athletics Hall of Fame! We are eager to have another sellout crowd to celebrate Fordham athletics and the inductees.
URL:https://newsuat.fordham.edu/event/fordham-athletics-2019-gala-and-hall-of-fame-ceremony/
LOCATION:583 Park Avenune\, 583 Park Ave\, New York\, NY\, 10065\, United States
CATEGORIES:Athletics,Receptions
ATTACH;FMTTYPE=image/jpeg:https://newsuat.fordham.edu/wp-content/uploads/2018/11/18155783_10154510135082423_673466544330162276_o-3.jpg
ORGANIZER;CN="Kara Field":MAILTO:kfield1@fordham.edu
END:VEVENT
END:VCALENDAR