BEGIN:VCALENDAR
VERSION:2.0
PRODID:-//Fordham Now - ECPv6.15.20//NONSGML v1.0//EN
CALSCALE:GREGORIAN
METHOD:PUBLISH
X-ORIGINAL-URL:https://newsuat.fordham.edu
X-WR-CALDESC:Events for Fordham Now
REFRESH-INTERVAL;VALUE=DURATION:PT1H
X-Robots-Tag:noindex
X-PUBLISHED-TTL:PT1H
BEGIN:VTIMEZONE
TZID:America/New_York
BEGIN:DAYLIGHT
TZOFFSETFROM:-0500
TZOFFSETTO:-0400
TZNAME:EDT
DTSTART:20180311T070000
END:DAYLIGHT
BEGIN:STANDARD
TZOFFSETFROM:-0400
TZOFFSETTO:-0500
TZNAME:EST
DTSTART:20181104T060000
END:STANDARD
BEGIN:DAYLIGHT
TZOFFSETFROM:-0500
TZOFFSETTO:-0400
TZNAME:EDT
DTSTART:20190310T070000
END:DAYLIGHT
BEGIN:STANDARD
TZOFFSETFROM:-0400
TZOFFSETTO:-0500
TZNAME:EST
DTSTART:20191103T060000
END:STANDARD
BEGIN:DAYLIGHT
TZOFFSETFROM:-0500
TZOFFSETTO:-0400
TZNAME:EDT
DTSTART:20200308T070000
END:DAYLIGHT
BEGIN:STANDARD
TZOFFSETFROM:-0400
TZOFFSETTO:-0500
TZNAME:EST
DTSTART:20201101T060000
END:STANDARD
END:VTIMEZONE
BEGIN:VEVENT
DTSTART;TZID=America/New_York:20190302T120000
DTEND;TZID=America/New_York:20190302T143000
DTSTAMP:20260424T002453
CREATED:20181213T222848Z
LAST-MODIFIED:20181213T222848Z
UID:10006773-1551528000-1551537000@newsuat.fordham.edu
SUMMARY:Fordham Women's Basketball vs. Saint Joseph's University
DESCRIPTION:Join us as Fordham women’s basketball takes on Saint Joseph’s University.
URL:https://newsuat.fordham.edu/event/fordham-womens-basketball-vs-saint-josephs-university/
LOCATION:Rose Hill Gymnasium\, 441 East Fordham Road\, Bronx\, NY\, 10458\, United States
CATEGORIES:Athletics
ORGANIZER;CN="Fordham Athletics":MAILTO:jcannady@fordham.edu
GEO:40.8612275;-73.8892354
X-APPLE-STRUCTURED-LOCATION;VALUE=URI;X-ADDRESS=Rose Hill Gymnasium 441 East Fordham Road Bronx NY 10458 United States;X-APPLE-RADIUS=500;X-TITLE=441 East Fordham Road:geo:-73.8892354,40.8612275
END:VEVENT
BEGIN:VEVENT
DTSTART;TZID=America/New_York:20190302T130000
DTEND;TZID=America/New_York:20190302T130000
DTSTAMP:20260424T002453
CREATED:20190220T142936Z
LAST-MODIFIED:20190220T142936Z
UID:10006944-1551531600-1551531600@newsuat.fordham.edu
SUMMARY:Alumni Chapter of Charlotte: Fordham Men's Basketball at Davidson
DESCRIPTION:Join us to see the Fordham men’s basketball team playing at Davidson. Tickets for the game may be purchased by calling the Davidson Ticket Office at 704-894-2375. Ask for tickets in the Fordham section (section 101). The cost for an adult ticket is $24.00\, and for children 17 and under\, it is $14.30. Your ticket will be available at will call on the day of the game. \nAfter the game we will be gathering at the Brickhouse Tavern at 209 Delberg Street in Davidson. Our group will be meeting in the rear section of the bar starting shortly after the game ends. Food and bar service will be available. \nPlease let Gene McCarthy know if you will be attending the game and Brickhouse Tavern so we know how many people to expect. If you have any questions\, contact Gene at 803-831-8381 or by email at ejmcwylie@aol.com.
URL:https://newsuat.fordham.edu/event/alumni-chapter-of-charlotte-fordham-mens-basketball-at-davidson/
LOCATION:John M. Belk Arena\, 200 Baker Street\, Davidson\, NC\, 28036\, United States
CATEGORIES:Athletics,Social
ORGANIZER;CN="Alumni Chapter of Charlotte":MAILTO:ejmcwylie@aol.com
GEO:35.4992779;-80.840521
X-APPLE-STRUCTURED-LOCATION;VALUE=URI;X-ADDRESS=John M. Belk Arena 200 Baker Street Davidson NC 28036 United States;X-APPLE-RADIUS=500;X-TITLE=200 Baker Street:geo:-80.840521,35.4992779
END:VEVENT
BEGIN:VEVENT
DTSTART;TZID=America/New_York:20190302T130000
DTEND;TZID=America/New_York:20190302T153000
DTSTAMP:20260424T002453
CREATED:20190103T194844Z
LAST-MODIFIED:20190103T194844Z
UID:10006787-1551531600-1551540600@newsuat.fordham.edu
SUMMARY:Fordham Men's Basketball vs. Davidson College
DESCRIPTION:Join us as Fordham men’s basketball takes on Davidson College.
URL:https://newsuat.fordham.edu/event/fordham-mens-basketball-vs-davidson-college-2/
LOCATION:John M. Belk Arena\, 200 Baker Street\, Davidson\, NC\, 28036\, United States
CATEGORIES:Athletics
ORGANIZER;CN="Fordham Athletics":MAILTO:jcannady@fordham.edu
GEO:35.4992779;-80.840521
X-APPLE-STRUCTURED-LOCATION;VALUE=URI;X-ADDRESS=John M. Belk Arena 200 Baker Street Davidson NC 28036 United States;X-APPLE-RADIUS=500;X-TITLE=200 Baker Street:geo:-80.840521,35.4992779
END:VEVENT
BEGIN:VEVENT
DTSTART;TZID=America/New_York:20190306T160000
DTEND;TZID=America/New_York:20190306T203000
DTSTAMP:20260424T002453
CREATED:20190109T142411Z
LAST-MODIFIED:20190109T142411Z
UID:10006830-1551888000-1551904200@newsuat.fordham.edu
SUMMARY:Doubleheader: Fordham Softball vs. Lafayette
DESCRIPTION:Join us as Fordham softball takes on Lafayette College in a doubleheader. \nAdmission is free.
URL:https://newsuat.fordham.edu/event/doubleheader-fordham-softball-vs-lafayette/
LOCATION:Bahoshy Field\, Fordham University\, Bronx\, NY\, 10458\, United States
CATEGORIES:Athletics
ORGANIZER;CN="Jasmine Cannady":MAILTO:jcannady@fordham.edu
END:VEVENT
BEGIN:VEVENT
DTSTART;TZID=America/New_York:20190306T183000
DTEND;TZID=America/New_York:20190306T210000
DTSTAMP:20260424T002453
CREATED:20190225T171716Z
LAST-MODIFIED:20190225T171716Z
UID:10006950-1551897000-1551906000@newsuat.fordham.edu
SUMMARY:Alumni Chapter of Philadelphia: Men’s Basketball Watch Party
DESCRIPTION:Join the Alumni Chapter of Philadelphia to watch our Fordham Rams take on the George Washington Colonials in men’s basketball. We have the back room at Smith’s—appetizers will be provided courtesy of the Office of Alumni Relations and there will be a cash bar. Friends and family are welcome! \nRSVP by Monday\, March 4\, so we know how many appetizers to order.
URL:https://newsuat.fordham.edu/event/alumni-chapter-of-philadelphia-mens-basketball-watch-party/
LOCATION:Smith’s Bar and Restaurant\, 39 S. 19th Street\, Philadelphia\, PA\, 19103\, United States
CATEGORIES:Athletics,Social
ORGANIZER;CN="Alumni Chapter of Philadelphia":MAILTO:ryanhultman@gmail.com
GEO:39.9522305;-75.1715472
X-APPLE-STRUCTURED-LOCATION;VALUE=URI;X-ADDRESS=Smith’s Bar and Restaurant 39 S. 19th Street Philadelphia PA 19103 United States;X-APPLE-RADIUS=500;X-TITLE=39 S. 19th Street:geo:-75.1715472,39.9522305
END:VEVENT
BEGIN:VEVENT
DTSTART;TZID=America/New_York:20190306T190000
DTEND;TZID=America/New_York:20190306T213000
DTSTAMP:20260424T002453
CREATED:20181213T222941Z
LAST-MODIFIED:20181213T222941Z
UID:10006756-1551898800-1551907800@newsuat.fordham.edu
SUMMARY:Fordham Men's Basketball vs. George Washington University
DESCRIPTION:Join us as Fordham men’s basketball takes on George Washington University.
URL:https://newsuat.fordham.edu/event/fordham-mens-basketball-vs-george-washington-university-2/
LOCATION:Rose Hill Gymnasium\, 441 East Fordham Road\, Bronx\, NY\, 10458\, United States
CATEGORIES:Athletics
ORGANIZER;CN="Fordham Athletics":MAILTO:jcannady@fordham.edu
GEO:40.8612275;-73.8892354
X-APPLE-STRUCTURED-LOCATION;VALUE=URI;X-ADDRESS=Rose Hill Gymnasium 441 East Fordham Road Bronx NY 10458 United States;X-APPLE-RADIUS=500;X-TITLE=441 East Fordham Road:geo:-73.8892354,40.8612275
END:VEVENT
BEGIN:VEVENT
DTSTART;VALUE=DATE:20190308
DTEND;VALUE=DATE:20190311
DTSTAMP:20260424T002453
CREATED:20190122T150511Z
LAST-MODIFIED:20190122T150511Z
UID:10006852-1552003200-1552262399@newsuat.fordham.edu
SUMMARY:Women's Basketball Atlantic 10 Tournament
DESCRIPTION:Join us in Pittsburgh to watch the women’s basketball Atlantic 10 Tournament! More details to come as the season concludes in early March. To follow Fordham’s journey to the tournament\, please visit fordhamsports.com. Go Rams!
URL:https://newsuat.fordham.edu/event/womens-basketball-atlantic-10-tournament/
LOCATION:A.J. Palumbo Center\, 1304 Forbes Ave\, Pittsburgh\, PA\, 15282\, United States
CATEGORIES:Athletics,Receptions,Social
ATTACH;FMTTYPE=image/png:https://newsuat.fordham.edu/wp-content/uploads/2019/01/IELSAYSEULNMFXJ.20181108190659.png
ORGANIZER;CN="Kara Field":MAILTO:kfield1@fordham.edu
END:VEVENT
BEGIN:VEVENT
DTSTART;TZID=America/New_York:20190308T120000
DTEND;TZID=America/New_York:20190308T150000
DTSTAMP:20260424T002453
CREATED:20190109T141918Z
LAST-MODIFIED:20190109T141918Z
UID:10006809-1552046400-1552057200@newsuat.fordham.edu
SUMMARY:Fordham Baseball vs. Iona
DESCRIPTION:Join us as Fordham baseball takes on Iona College. \nAdmission is free.
URL:https://newsuat.fordham.edu/event/fordham-baseball-vs-iona/
LOCATION:Houlihan Park\, Fordham University\, Bronx\, NY\, 10458
CATEGORIES:Athletics
ORGANIZER;CN="Jasmine Cannady":MAILTO:jcannady@fordham.edu
END:VEVENT
BEGIN:VEVENT
DTSTART;TZID=America/New_York:20190308T160000
DTEND;TZID=America/New_York:20190308T190000
DTSTAMP:20260424T002453
CREATED:20190109T141920Z
LAST-MODIFIED:20190109T141920Z
UID:10006810-1552060800-1552071600@newsuat.fordham.edu
SUMMARY:Fordham Baseball vs. Hofstra
DESCRIPTION:Join us as Fordham baseball takes on Hofstra University. \nAdmission is free.
URL:https://newsuat.fordham.edu/event/fordham-baseball-vs-hofstra/
LOCATION:Houlihan Park\, Fordham University\, Bronx\, NY\, 10458
CATEGORIES:Athletics
ORGANIZER;CN="Jasmine Cannady":MAILTO:jcannady@fordham.edu
END:VEVENT
BEGIN:VEVENT
DTSTART;TZID=America/New_York:20190309T150000
DTEND;TZID=America/New_York:20190309T180000
DTSTAMP:20260424T002453
CREATED:20190109T142028Z
LAST-MODIFIED:20190109T142028Z
UID:10006811-1552143600-1552154400@newsuat.fordham.edu
SUMMARY:Fordham Baseball vs. Iona
DESCRIPTION:Join us as Fordham baseball takes on Iona College. \nAdmission is free.
URL:https://newsuat.fordham.edu/event/fordham-baseball-vs-iona-2/
LOCATION:Houlihan Park\, Fordham University\, Bronx\, NY\, 10458
CATEGORIES:Athletics
ORGANIZER;CN="Jasmine Cannady":MAILTO:jcannady@fordham.edu
END:VEVENT
BEGIN:VEVENT
DTSTART;TZID=America/New_York:20190309T160000
DTEND;TZID=America/New_York:20190309T183000
DTSTAMP:20260424T002453
CREATED:20190103T194842Z
LAST-MODIFIED:20190103T194842Z
UID:10006788-1552147200-1552156200@newsuat.fordham.edu
SUMMARY:Fordham Men's Basketball vs. La Salle University
DESCRIPTION:Join us as Fordham men’s basketball takes on La Salle University.
URL:https://newsuat.fordham.edu/event/fordham-mens-basketball-vs-la-salle-university-2/
LOCATION:Tom Gola Arena\, 2020 West Olney Avenue\, Philadelphia\, PA\, 19144\, United States
CATEGORIES:Athletics
ORGANIZER;CN="Fordham Athletics":MAILTO:jcannady@fordham.edu
END:VEVENT
BEGIN:VEVENT
DTSTART;TZID=America/New_York:20190310T120000
DTEND;TZID=America/New_York:20190310T150000
DTSTAMP:20260424T002453
CREATED:20190109T142000Z
LAST-MODIFIED:20190109T142000Z
UID:10006812-1552219200-1552230000@newsuat.fordham.edu
SUMMARY:Fordham Baseball vs. Hofstra
DESCRIPTION:Join us as Fordham baseball takes on Hofstra University. \nAdmission is free.
URL:https://newsuat.fordham.edu/event/fordham-baseball-vs-hofstra-2/
LOCATION:Houlihan Park\, Fordham University\, Bronx\, NY\, 10458
CATEGORIES:Athletics
ORGANIZER;CN="Jasmine Cannady":MAILTO:jcannady@fordham.edu
END:VEVENT
BEGIN:VEVENT
DTSTART;TZID=America/New_York:20190312T150000
DTEND;TZID=America/New_York:20190312T180000
DTSTAMP:20260424T002453
CREATED:20190109T142002Z
LAST-MODIFIED:20190109T142002Z
UID:10006813-1552402800-1552413600@newsuat.fordham.edu
SUMMARY:Fordham Baseball vs. Sacred Heart
DESCRIPTION:Join us as Fordham baseball takes on Sacred Heart University. \nAdmission is free.
URL:https://newsuat.fordham.edu/event/fordham-baseball-vs-sacred-heart-2/
LOCATION:Houlihan Park\, Fordham University\, Bronx\, NY\, 10458
CATEGORIES:Athletics
ORGANIZER;CN="Jasmine Cannady":MAILTO:jcannady@fordham.edu
END:VEVENT
BEGIN:VEVENT
DTSTART;VALUE=DATE:20190313
DTEND;VALUE=DATE:20190318
DTSTAMP:20260424T002453
CREATED:20190122T155249Z
LAST-MODIFIED:20190122T155249Z
UID:10006851-1552435200-1552867199@newsuat.fordham.edu
SUMMARY:Men's Basketball Atlantic 10 Tournament
DESCRIPTION:Join us at the Barclays Center in Brooklyn to watch the men’s basketball Atlantic 10 Tournament! More details to come as the season concludes in early March. To follow Fordham’s journey to the tournament\, please visit fordhamsports.com. Go Rams!
URL:https://newsuat.fordham.edu/event/mens-basketball-atlantic-10-tournament/
LOCATION:Barclays Center\, 620 Atlantic Ave\, Brooklyn\, NY\, 11217\, United States
CATEGORIES:Athletics,Receptions,Reunions,Social
ATTACH;FMTTYPE=image/jpeg:https://newsuat.fordham.edu/wp-content/uploads/2019/01/BC_19_EV_A102019_910x350-b96426b674.jpg
ORGANIZER;CN="Kara Field":MAILTO:kfield1@fordham.edu
END:VEVENT
BEGIN:VEVENT
DTSTART;TZID=America/New_York:20190313T150000
DTEND;TZID=America/New_York:20190313T180000
DTSTAMP:20260424T002453
CREATED:20190109T142004Z
LAST-MODIFIED:20190109T142004Z
UID:10006814-1552489200-1552500000@newsuat.fordham.edu
SUMMARY:Fordham Baseball vs. Wagner
DESCRIPTION:Join us as Fordham baseball takes on Wagner College. \nAdmission is free.
URL:https://newsuat.fordham.edu/event/fordham-baseball-vs-wagner/
LOCATION:Houlihan Park\, Fordham University\, Bronx\, NY\, 10458
CATEGORIES:Athletics
ORGANIZER;CN="Jasmine Cannady":MAILTO:jcannady@fordham.edu
END:VEVENT
BEGIN:VEVENT
DTSTART;TZID=America/New_York:20190320T150000
DTEND;TZID=America/New_York:20190320T180000
DTSTAMP:20260424T002453
CREATED:20190109T142005Z
LAST-MODIFIED:20190109T142005Z
UID:10006815-1553094000-1553104800@newsuat.fordham.edu
SUMMARY:Fordham Baseball vs. Manhattan
DESCRIPTION:Join us as Fordham baseball takes on Manhattan College. \nAdmission is free.
URL:https://newsuat.fordham.edu/event/fordham-baseball-vs-manhattan/
LOCATION:Houlihan Park\, Fordham University\, Bronx\, NY\, 10458
CATEGORIES:Athletics
ORGANIZER;CN="Jasmine Cannady":MAILTO:jcannady@fordham.edu
END:VEVENT
BEGIN:VEVENT
DTSTART;TZID=America/New_York:20190322T150000
DTEND;TZID=America/New_York:20190322T180000
DTSTAMP:20260424T002453
CREATED:20190109T142007Z
LAST-MODIFIED:20190109T142007Z
UID:10006816-1553266800-1553277600@newsuat.fordham.edu
SUMMARY:Fordham Baseball vs. St. Bonaventure
DESCRIPTION:Join us as Fordham baseball takes on St. Bonaventure University. \nAdmission is free.
URL:https://newsuat.fordham.edu/event/fordham-baseball-vs-st-bonaventure/
LOCATION:Houlihan Park\, Fordham University\, Bronx\, NY\, 10458
CATEGORIES:Athletics
ORGANIZER;CN="Jasmine Cannady":MAILTO:jcannady@fordham.edu
END:VEVENT
BEGIN:VEVENT
DTSTART;TZID=America/New_York:20190323T140000
DTEND;TZID=America/New_York:20190323T170000
DTSTAMP:20260424T002453
CREATED:20190109T142008Z
LAST-MODIFIED:20190109T142008Z
UID:10006817-1553349600-1553360400@newsuat.fordham.edu
SUMMARY:Fordham Baseball vs. St. Bonaventure
DESCRIPTION:Join us as Fordham baseball takes on St. Bonaventure University. \nAdmission is free.
URL:https://newsuat.fordham.edu/event/fordham-baseball-vs-st-bonaventure-2/
LOCATION:Houlihan Park\, Fordham University\, Bronx\, NY\, 10458
CATEGORIES:Athletics
ORGANIZER;CN="Jasmine Cannady":MAILTO:jcannady@fordham.edu
END:VEVENT
BEGIN:VEVENT
DTSTART;TZID=America/New_York:20190324T120000
DTEND;TZID=America/New_York:20190324T150000
DTSTAMP:20260424T002453
CREATED:20190109T142009Z
LAST-MODIFIED:20190109T142009Z
UID:10006818-1553428800-1553439600@newsuat.fordham.edu
SUMMARY:Fordham Baseball vs. St. Bonaventure
DESCRIPTION:Join us as Fordham baseball takes on St. Bonaventure University. \nAdmission is free.
URL:https://newsuat.fordham.edu/event/fordham-baseball-vs-st-bonaventure-3/
LOCATION:Houlihan Park\, Fordham University\, Bronx\, NY\, 10458
CATEGORIES:Athletics
ORGANIZER;CN="Jasmine Cannady":MAILTO:jcannady@fordham.edu
END:VEVENT
END:VCALENDAR