BEGIN:VCALENDAR
VERSION:2.0
PRODID:-//Fordham Now - ECPv6.15.20//NONSGML v1.0//EN
CALSCALE:GREGORIAN
METHOD:PUBLISH
X-WR-CALNAME:Fordham Now
X-ORIGINAL-URL:https://newsuat.fordham.edu
X-WR-CALDESC:Events for Fordham Now
REFRESH-INTERVAL;VALUE=DURATION:PT1H
X-Robots-Tag:noindex
X-PUBLISHED-TTL:PT1H
BEGIN:VTIMEZONE
TZID:America/New_York
BEGIN:DAYLIGHT
TZOFFSETFROM:-0500
TZOFFSETTO:-0400
TZNAME:EDT
DTSTART:20180311T070000
END:DAYLIGHT
BEGIN:STANDARD
TZOFFSETFROM:-0400
TZOFFSETTO:-0500
TZNAME:EST
DTSTART:20181104T060000
END:STANDARD
BEGIN:DAYLIGHT
TZOFFSETFROM:-0500
TZOFFSETTO:-0400
TZNAME:EDT
DTSTART:20190310T070000
END:DAYLIGHT
BEGIN:STANDARD
TZOFFSETFROM:-0400
TZOFFSETTO:-0500
TZNAME:EST
DTSTART:20191103T060000
END:STANDARD
BEGIN:DAYLIGHT
TZOFFSETFROM:-0500
TZOFFSETTO:-0400
TZNAME:EDT
DTSTART:20200308T070000
END:DAYLIGHT
BEGIN:STANDARD
TZOFFSETFROM:-0400
TZOFFSETTO:-0500
TZNAME:EST
DTSTART:20201101T060000
END:STANDARD
END:VTIMEZONE
BEGIN:VEVENT
DTSTART;TZID=America/New_York:20190202T130000
DTEND;TZID=America/New_York:20190202T170000
DTSTAMP:20260424T014957
CREATED:20181213T212522Z
LAST-MODIFIED:20181213T212522Z
UID:10006774-1549112400-1549126800@newsuat.fordham.edu
SUMMARY:2019 Swim & Dive Alumni Day
DESCRIPTION:Please join us for Fordham’s Swim and Dive Alumni Day and cheer on the Rams against UMass!
URL:https://newsuat.fordham.edu/event/2019-swim-dive-alumni-day/
LOCATION:Dagger John’s\, Rose Hill Campus 441 E Fordham Rd\, Bronx\, NY\, 10458\, United States
CATEGORIES:Athletics,Receptions,Reunions
ATTACH;FMTTYPE=image/jpeg:https://newsuat.fordham.edu/wp-content/uploads/2018/12/24837304_1768853309851379_6481233982242377485_o.jpg
ORGANIZER;CN="Kara Field":MAILTO:kfield1@fordham.edu
GEO:40.8619545;-73.8855064
X-APPLE-STRUCTURED-LOCATION;VALUE=URI;X-ADDRESS=Dagger John’s Rose Hill Campus 441 E Fordham Rd Bronx NY 10458 United States;X-APPLE-RADIUS=500;X-TITLE=Rose Hill Campus 441 E Fordham Rd:geo:-73.8855064,40.8619545
END:VEVENT
BEGIN:VEVENT
DTSTART;TZID=America/New_York:20190202T173000
DTEND;TZID=America/New_York:20190202T203000
DTSTAMP:20260424T014957
CREATED:20190123T173053Z
LAST-MODIFIED:20190123T173053Z
UID:10006870-1549128600-1549139400@newsuat.fordham.edu
SUMMARY:Softball First Pitch Dinner
DESCRIPTION:Come join us for a fun night as we kick off the 2019 season\, and help us celebrate the 35th anniversary of our Fordham softball program!
URL:https://newsuat.fordham.edu/event/softball-first-pitch-dinner/
LOCATION:Bepler Commons\, Faber Hall\, Rose Hill Campus 441 E Fordham Rd\, Bronx\, NY\, 10458\, United States
CATEGORIES:Athletics,Receptions,Reunions
ATTACH;FMTTYPE=image/png:https://newsuat.fordham.edu/wp-content/uploads/2019/01/Screen-Shot-2019-01-22-at-3.24.36-PM.png
ORGANIZER;CN="Kara Field":MAILTO:kfield1@fordham.edu
GEO:40.8619545;-73.8855064
X-APPLE-STRUCTURED-LOCATION;VALUE=URI;X-ADDRESS=Bepler Commons Faber Hall Rose Hill Campus 441 E Fordham Rd Bronx NY 10458 United States;X-APPLE-RADIUS=500;X-TITLE=Faber Hall\, Rose Hill Campus 441 E Fordham Rd:geo:-73.8855064,40.8619545
END:VEVENT
BEGIN:VEVENT
DTSTART;TZID=America/New_York:20190203T120000
DTEND;TZID=America/New_York:20190203T143000
DTSTAMP:20260424T014957
CREATED:20181213T212718Z
LAST-MODIFIED:20181213T212718Z
UID:10006767-1549195200-1549204200@newsuat.fordham.edu
SUMMARY:Fordham Women's Basketball vs Duquesne University
DESCRIPTION:Join us as Fordham women’s basketball takes on Duquesne University.
URL:https://newsuat.fordham.edu/event/fordham-womens-basketball-vs-duquesne-university/
LOCATION:Rose Hill Gymnasium\, 441 East Fordham Road\, Bronx\, NY\, 10458\, United States
CATEGORIES:Athletics
ORGANIZER;CN="Fordham Athletics":MAILTO:jcannady@fordham.edu
GEO:40.8612275;-73.8892354
X-APPLE-STRUCTURED-LOCATION;VALUE=URI;X-ADDRESS=Rose Hill Gymnasium 441 East Fordham Road Bronx NY 10458 United States;X-APPLE-RADIUS=500;X-TITLE=441 East Fordham Road:geo:-73.8892354,40.8612275
END:VEVENT
BEGIN:VEVENT
DTSTART;TZID=America/New_York:20190206T183000
DTEND;TZID=America/New_York:20190206T203000
DTSTAMP:20260424T014957
CREATED:20190103T141233Z
LAST-MODIFIED:20190103T141233Z
UID:10006800-1549477800-1549485000@newsuat.fordham.edu
SUMMARY:Fordham Football Meet the Recruits
DESCRIPTION:Fordham football invites you to get acquainted with the team’s 2019 recruits at MetLife Stadium! This is a great opportunity to mingle with head coach Joe Conlin and his staff and catch up with Fordham football alumni and friends.
URL:https://newsuat.fordham.edu/event/fordham-football-meet-the-recruits/
LOCATION:MetLife Stadium\, 1 MetLife Stadium Dr\, East Rutherford\, NJ\, 07073\, United States
CATEGORIES:Athletics,Receptions
ATTACH;FMTTYPE=image/jpeg:https://newsuat.fordham.edu/wp-content/uploads/2018/12/22553103_10154986544767423_8472057523337801811_o.jpg
ORGANIZER;CN="Kara Field":MAILTO:kfield1@fordham.edu
END:VEVENT
BEGIN:VEVENT
DTSTART;TZID=America/New_York:20190206T190000
DTEND;TZID=America/New_York:20190206T213000
DTSTAMP:20260424T014957
CREATED:20181213T213038Z
LAST-MODIFIED:20181213T213038Z
UID:10006768-1549479600-1549488600@newsuat.fordham.edu
SUMMARY:Fordham Women's Basketball vs. Saint Louis University
DESCRIPTION:Join us as Fordham women’s basketball takes on Saint Louis University.
URL:https://newsuat.fordham.edu/event/fordham-womens-basketball-vs-saint-louis-university-2/
LOCATION:Rose Hill Gymnasium\, 441 East Fordham Road\, Bronx\, NY\, 10458\, United States
CATEGORIES:Athletics
ORGANIZER;CN="Fordham Athletics":MAILTO:jcannady@fordham.edu
GEO:40.8612275;-73.8892354
X-APPLE-STRUCTURED-LOCATION;VALUE=URI;X-ADDRESS=Rose Hill Gymnasium 441 East Fordham Road Bronx NY 10458 United States;X-APPLE-RADIUS=500;X-TITLE=441 East Fordham Road:geo:-73.8892354,40.8612275
END:VEVENT
BEGIN:VEVENT
DTSTART;TZID=America/New_York:20190206T190000
DTEND;TZID=America/New_York:20190206T213000
DTSTAMP:20260424T014957
CREATED:20190103T194849Z
LAST-MODIFIED:20190103T194849Z
UID:10006784-1549479600-1549488600@newsuat.fordham.edu
SUMMARY:Fordham Men's Basketball vs. University of Massachusetts Amherst
DESCRIPTION:Join us as Fordham men’s basketball takes on the University of Massachusetts Amherst.
URL:https://newsuat.fordham.edu/event/fordham-mens-basketball-vs-university-of-massachusetts-amherst/
LOCATION:Mullins Center\, 200 Commonwealth Ave\, Amherst\, MA\, 01003\, United States
CATEGORIES:Athletics
ORGANIZER;CN="Fordham Athletics":MAILTO:jcannady@fordham.edu
END:VEVENT
BEGIN:VEVENT
DTSTART;TZID=America/New_York:20190209T123000
DTEND;TZID=America/New_York:20190209T140000
DTSTAMP:20260424T014957
CREATED:20181219T180027Z
LAST-MODIFIED:20181219T180027Z
UID:10006796-1549715400-1549720800@newsuat.fordham.edu
SUMMARY:2019 Squash Alumni Day
DESCRIPTION:Join us in Dagger John’s for a pre-match reception from 12:30 to 2:00 p.m.! It will be a great opportunity to catch up with former teammates and Fordham squash fans. Then watch the Rams take on NYU at 2 p.m.!
URL:https://newsuat.fordham.edu/event/2019-squash-alumni-day/
LOCATION:Dagger John’s\, Rose Hill Campus 441 E Fordham Rd\, Bronx\, NY\, 10458\, United States
CATEGORIES:Athletics,Receptions
ATTACH;FMTTYPE=image/jpeg:https://newsuat.fordham.edu/wp-content/uploads/2018/12/85878-thumb.jpg
ORGANIZER;CN="Kara Field":MAILTO:kfield1@fordham.edu
GEO:40.8619545;-73.8855064
X-APPLE-STRUCTURED-LOCATION;VALUE=URI;X-ADDRESS=Dagger John’s Rose Hill Campus 441 E Fordham Rd Bronx NY 10458 United States;X-APPLE-RADIUS=500;X-TITLE=Rose Hill Campus 441 E Fordham Rd:geo:-73.8855064,40.8619545
END:VEVENT
BEGIN:VEVENT
DTSTART;TZID=America/New_York:20190209T140000
DTEND;TZID=America/New_York:20190209T163000
DTSTAMP:20260424T014957
CREATED:20181213T220941Z
LAST-MODIFIED:20181213T220941Z
UID:10006752-1549720800-1549729800@newsuat.fordham.edu
SUMMARY:Fordham Men's Basketball vs. Duquesne University
DESCRIPTION:Join us as Fordham men’s basketball takes on Duquesne University.
URL:https://newsuat.fordham.edu/event/fordham-mens-basketball-vs-duquesne-university-2/
LOCATION:Rose Hill Gymnasium\, 441 East Fordham Road\, Bronx\, NY\, 10458\, United States
CATEGORIES:Athletics
ORGANIZER;CN="Fordham Athletics":MAILTO:jcannady@fordham.edu
GEO:40.8612275;-73.8892354
X-APPLE-STRUCTURED-LOCATION;VALUE=URI;X-ADDRESS=Rose Hill Gymnasium 441 East Fordham Road Bronx NY 10458 United States;X-APPLE-RADIUS=500;X-TITLE=441 East Fordham Road:geo:-73.8892354,40.8612275
END:VEVENT
BEGIN:VEVENT
DTSTART;TZID=America/New_York:20190210T120000
DTEND;TZID=America/New_York:20190210T140000
DTSTAMP:20260424T014957
CREATED:20190125T225805Z
LAST-MODIFIED:20190125T225805Z
UID:10006867-1549800000-1549807200@newsuat.fordham.edu
SUMMARY:2019 Women's Basketball Alumni Day
DESCRIPTION:Please join us on Sunday\, February 10\, for Fordham’s Women’s Basketball Alumni Day! This is a great opportunity to meet up with former teammates and friends of Fordham basketball.
URL:https://newsuat.fordham.edu/event/2019-womens-basketball-alumni-day/
LOCATION:Dagger John’s\, Rose Hill Campus 441 E Fordham Rd\, Bronx\, NY\, 10458\, United States
CATEGORIES:Athletics,Receptions,Reunions
ATTACH;FMTTYPE=image/png:https://newsuat.fordham.edu/wp-content/uploads/2019/01/80951-thumb.png
ORGANIZER;CN="Kara Field":MAILTO:kfield1@fordham.edu
GEO:40.8619545;-73.8855064
X-APPLE-STRUCTURED-LOCATION;VALUE=URI;X-ADDRESS=Dagger John’s Rose Hill Campus 441 E Fordham Rd Bronx NY 10458 United States;X-APPLE-RADIUS=500;X-TITLE=Rose Hill Campus 441 E Fordham Rd:geo:-73.8855064,40.8619545
END:VEVENT
BEGIN:VEVENT
DTSTART;TZID=America/New_York:20190210T140000
DTEND;TZID=America/New_York:20190210T163000
DTSTAMP:20260424T014957
CREATED:20181213T221453Z
LAST-MODIFIED:20181213T221453Z
UID:10006769-1549807200-1549816200@newsuat.fordham.edu
SUMMARY:Fordham Women's Basketball vs. George Mason University
DESCRIPTION:Join us as Fordham women’s basketball takes on George Mason University.
URL:https://newsuat.fordham.edu/event/fordham-womens-basketball-vs-george-mason-university/
LOCATION:Rose Hill Gymnasium\, 441 East Fordham Road\, Bronx\, NY\, 10458\, United States
CATEGORIES:Athletics
ORGANIZER;CN="Fordham Athletics":MAILTO:jcannady@fordham.edu
GEO:40.8612275;-73.8892354
X-APPLE-STRUCTURED-LOCATION;VALUE=URI;X-ADDRESS=Rose Hill Gymnasium 441 East Fordham Road Bronx NY 10458 United States;X-APPLE-RADIUS=500;X-TITLE=441 East Fordham Road:geo:-73.8892354,40.8612275
END:VEVENT
BEGIN:VEVENT
DTSTART;TZID=America/New_York:20190212T190000
DTEND;TZID=America/New_York:20190212T213000
DTSTAMP:20260424T014957
CREATED:20181213T221825Z
LAST-MODIFIED:20181213T221825Z
UID:10006753-1549998000-1550007000@newsuat.fordham.edu
SUMMARY:Fordham Men's Basketball vs. Davidson College
DESCRIPTION:Join us as Fordham men’s basketball takes on Davidson College.
URL:https://newsuat.fordham.edu/event/fordham-mens-basketball-vs-davidson-college/
LOCATION:Rose Hill Gymnasium\, 441 East Fordham Road\, Bronx\, NY\, 10458\, United States
CATEGORIES:Athletics
ORGANIZER;CN="Fordham Athletics":MAILTO:jcannady@fordham.edu
GEO:40.8612275;-73.8892354
X-APPLE-STRUCTURED-LOCATION;VALUE=URI;X-ADDRESS=Rose Hill Gymnasium 441 East Fordham Road Bronx NY 10458 United States;X-APPLE-RADIUS=500;X-TITLE=441 East Fordham Road:geo:-73.8892354,40.8612275
END:VEVENT
BEGIN:VEVENT
DTSTART;TZID=America/New_York:20190213T190000
DTEND;TZID=America/New_York:20190213T213000
DTSTAMP:20260424T014957
CREATED:20190103T194840Z
LAST-MODIFIED:20190103T194840Z
UID:10006789-1550084400-1550093400@newsuat.fordham.edu
SUMMARY:Fordham Women's Basketball vs. Davidson College
DESCRIPTION:Join us as Fordham women’s basketball takes on Davidson College.
URL:https://newsuat.fordham.edu/event/fordham-womens-basketball-vs-davidson-college-2/
LOCATION:John M. Belk Arena\, 200 Baker Street\, Davidson\, NC\, 28036\, United States
CATEGORIES:Athletics
ORGANIZER;CN="Fordham Athletics":MAILTO:jcannady@fordham.edu
GEO:35.4992779;-80.840521
X-APPLE-STRUCTURED-LOCATION;VALUE=URI;X-ADDRESS=John M. Belk Arena 200 Baker Street Davidson NC 28036 United States;X-APPLE-RADIUS=500;X-TITLE=200 Baker Street:geo:-80.840521,35.4992779
END:VEVENT
BEGIN:VEVENT
DTSTART;TZID=America/New_York:20190216T130000
DTEND;TZID=America/New_York:20190216T153000
DTSTAMP:20260424T014957
CREATED:20190103T194839Z
LAST-MODIFIED:20190103T194839Z
UID:10006790-1550322000-1550331000@newsuat.fordham.edu
SUMMARY:Fordham Women's Basketball vs. St. Bonaventure University
DESCRIPTION:Join us as Fordham women’s basketball takes on St. Bonaventure University.
URL:https://newsuat.fordham.edu/event/fordham-womens-basketball-vs-st-bonaventure-university/
LOCATION:Reilly Center\, 3261 West State Road\, St. Bonaventure\, NY\, 14778\, United States
CATEGORIES:Athletics
ORGANIZER;CN="Fordham Athletics":MAILTO:jcannady@fordham.edu
END:VEVENT
BEGIN:VEVENT
DTSTART;TZID=America/New_York:20190216T133000
DTEND;TZID=America/New_York:20190216T133000
DTSTAMP:20260424T014957
CREATED:20190122T144017Z
LAST-MODIFIED:20190122T144017Z
UID:10006858-1550323800-1550323800@newsuat.fordham.edu
SUMMARY:Alumni Chapter of Hartford: Men's Basketball Game Watch
DESCRIPTION:Join the Alumni Chapter of Hartford to watch our Fordham Rams take on the University of Rhode Island Rams in men’s basketball. Appetizers will be available thanks to the Office of Alumni Relations\, and there will be a cash bar. \nRSVP by Friday\, February 8\, 2019.
URL:https://newsuat.fordham.edu/event/alumni-chapter-of-hartford-mens-basketball-game-watch/
LOCATION:The Tavern Downtown\, 201 Ann Uccello Street\, Hartford\, CT\, 06103\, United States
CATEGORIES:Athletics,Social
ORGANIZER;CN="Alumni Chapter of Hartford":MAILTO:fordhamalumsct@gmail.com
END:VEVENT
BEGIN:VEVENT
DTSTART;TZID=America/New_York:20190216T133000
DTEND;TZID=America/New_York:20190216T160000
DTSTAMP:20260424T014957
CREATED:20190104T212527Z
LAST-MODIFIED:20190104T212527Z
UID:10006803-1550323800-1550332800@newsuat.fordham.edu
SUMMARY:Alumni Chapter of Long Island: Fordham Men's Basketball Watch Party
DESCRIPTION:Join the Alumni Chapter of Long Island to watch the Fordham Rams take on the University of Rhode Island Rams in men’s basketball. Food will be provided\, and the first two drinks are on the chapter. \nRSVP by Thursday\, February 14\, 2019. \nAs the cost of this gathering is being subsidized by the chapter\, please consider making a gift to the Long Island Chapter Endowed Scholarship Fund.
URL:https://newsuat.fordham.edu/event/alumni-chapter-of-long-island-fordham-mens-basketball-watch-party/
LOCATION:Monaghan’s Pub\, 48 N. Village Avenue\, Rockville Centre\, New York\, 11570\, United States
CATEGORIES:Athletics,Social
ORGANIZER;CN="Phil Cicione":MAILTO:phillipcicione@gmail.com
END:VEVENT
BEGIN:VEVENT
DTSTART;TZID=America/New_York:20190216T140000
DTEND;TZID=America/New_York:20190216T163000
DTSTAMP:20260424T014957
CREATED:20190103T194848Z
LAST-MODIFIED:20190103T194848Z
UID:10006785-1550325600-1550334600@newsuat.fordham.edu
SUMMARY:Fordham Men's Basketball vs. University of Rhode Island
DESCRIPTION:Join us as Fordham men’s basketball takes on the University of Rhode Island.
URL:https://newsuat.fordham.edu/event/fordham-mens-basketball-vs-university-of-rhode-island/
LOCATION:Ryan Center\, 1 Lincoln Almond Plaza\, Kingston\, RI\, 02881\, United States
CATEGORIES:Athletics
ORGANIZER;CN="Fordham Athletics":MAILTO:jcannady@fordham.edu
END:VEVENT
BEGIN:VEVENT
DTSTART;TZID=America/New_York:20190220T190000
DTEND;TZID=America/New_York:20190220T213000
DTSTAMP:20260424T014957
CREATED:20190103T194845Z
LAST-MODIFIED:20190103T194845Z
UID:10006786-1550689200-1550698200@newsuat.fordham.edu
SUMMARY:Fordham Men's Basketball vs. University of Richmond
DESCRIPTION:Join us as Fordham men’s basketball takes on the University of Richmond.
URL:https://newsuat.fordham.edu/event/fordham-mens-basketball-vs-university-of-richmond/
LOCATION:The Robins Center\, 23 Boatwright Drive\, Richmond\, VA\, 23173\, United States
CATEGORIES:Athletics
ORGANIZER;CN="Fordham Athletics":MAILTO:jcannady@fordham.edu
END:VEVENT
BEGIN:VEVENT
DTSTART;TZID=America/New_York:20190223T153000
DTEND;TZID=America/New_York:20190223T180000
DTSTAMP:20260424T014957
CREATED:20190201T194105Z
LAST-MODIFIED:20190201T194105Z
UID:10006891-1550935800-1550944800@newsuat.fordham.edu
SUMMARY:Alumni Chapter of Dallas: Men's Basketball Watch Party
DESCRIPTION:Join the Alumni Chapter of Dallas to watch our Fordham Rams take on St. Bonaventure in men’s basketball. Snacks will be provided\, and you are welcome to order dinner and drinks on your own. Friends and family are welcome! \nPlease register by Wednesday\, February 20\, so we know how many appetizers to order.
URL:https://newsuat.fordham.edu/event/alumni-chapter-of-dallas-mens-basketball-watch-party/
LOCATION:Jake’s Burgers and Beer Uptown Dallas\, 2702 McKinney Ave.\, Ste. 101\, Dallas\, TX\, 75204\, United States
CATEGORIES:Athletics,Social
ORGANIZER;CN="Alumni Chapter of Dallas":MAILTO:tanner@hartnettlawfirm.com
END:VEVENT
BEGIN:VEVENT
DTSTART;TZID=America/New_York:20190223T163000
DTEND;TZID=America/New_York:20190223T190000
DTSTAMP:20260424T014957
CREATED:20181213T222123Z
LAST-MODIFIED:20181213T222123Z
UID:10006754-1550939400-1550948400@newsuat.fordham.edu
SUMMARY:Fordham Men's Basketball vs. St. Bonaventure University
DESCRIPTION:Join us as Fordham men’s basketball takes on St. Bonaventure University.
URL:https://newsuat.fordham.edu/event/fordham-mens-basketball-vs-st-bonaventure-university-2/
LOCATION:Rose Hill Gymnasium\, 441 East Fordham Road\, Bronx\, NY\, 10458\, United States
CATEGORIES:Athletics
ORGANIZER;CN="Fordham Athletics":MAILTO:jcannady@fordham.edu
GEO:40.8612275;-73.8892354
X-APPLE-STRUCTURED-LOCATION;VALUE=URI;X-ADDRESS=Rose Hill Gymnasium 441 East Fordham Road Bronx NY 10458 United States;X-APPLE-RADIUS=500;X-TITLE=441 East Fordham Road:geo:-73.8892354,40.8612275
END:VEVENT
BEGIN:VEVENT
DTSTART;TZID=America/New_York:20190224T140000
DTEND;TZID=America/New_York:20190224T163000
DTSTAMP:20260424T014957
CREATED:20181213T222223Z
LAST-MODIFIED:20181213T222223Z
UID:10006771-1551016800-1551025800@newsuat.fordham.edu
SUMMARY:Fordham Women's Basketball vs. University of Massachusetts Amherst
DESCRIPTION:Join us as Fordham women’s basketball takes on the University of Massachusetts Amherst.
URL:https://newsuat.fordham.edu/event/fordham-womens-basketball-vs-university-of-massachusetts-amherst/
LOCATION:Rose Hill Gymnasium\, 441 East Fordham Road\, Bronx\, NY\, 10458\, United States
CATEGORIES:Athletics
ORGANIZER;CN="Fordham Athletics":MAILTO:jcannady@fordham.edu
GEO:40.8612275;-73.8892354
X-APPLE-STRUCTURED-LOCATION;VALUE=URI;X-ADDRESS=Rose Hill Gymnasium 441 East Fordham Road Bronx NY 10458 United States;X-APPLE-RADIUS=500;X-TITLE=441 East Fordham Road:geo:-73.8892354,40.8612275
END:VEVENT
BEGIN:VEVENT
DTSTART;TZID=America/New_York:20190226T150000
DTEND;TZID=America/New_York:20190226T180000
DTSTAMP:20260424T014957
CREATED:20190109T141916Z
LAST-MODIFIED:20190109T141916Z
UID:10006808-1551193200-1551204000@newsuat.fordham.edu
SUMMARY:Fordham Baseball vs. Sacred Heart
DESCRIPTION:Join us as Fordham baseball takes on Sacred Heart University. \nAdmission is free.
URL:https://newsuat.fordham.edu/event/fordham-baseball-vs-sacred-heart/
LOCATION:Houlihan Park\, Fordham University\, Bronx\, NY\, 10458
CATEGORIES:Athletics
ORGANIZER;CN="Jasmine Cannady":MAILTO:jcannady@fordham.edu
END:VEVENT
BEGIN:VEVENT
DTSTART;TZID=America/New_York:20190227T190000
DTEND;TZID=America/New_York:20190227T213000
DTSTAMP:20260424T014957
CREATED:20181213T222647Z
LAST-MODIFIED:20181213T222647Z
UID:10006772-1551294000-1551303000@newsuat.fordham.edu
SUMMARY:Fordham Women's Basketball vs. University of Dayton
DESCRIPTION:Join us as Fordham women’s basketball takes on the University of Dayton.
URL:https://newsuat.fordham.edu/event/fordham-womens-basketball-vs-university-of-dayton-2/
LOCATION:Rose Hill Gymnasium\, 441 East Fordham Road\, Bronx\, NY\, 10458\, United States
CATEGORIES:Athletics
ORGANIZER;CN="Fordham Athletics":MAILTO:jcannady@fordham.edu
GEO:40.8612275;-73.8892354
X-APPLE-STRUCTURED-LOCATION;VALUE=URI;X-ADDRESS=Rose Hill Gymnasium 441 East Fordham Road Bronx NY 10458 United States;X-APPLE-RADIUS=500;X-TITLE=441 East Fordham Road:geo:-73.8892354,40.8612275
END:VEVENT
BEGIN:VEVENT
DTSTART;TZID=America/New_York:20190227T210000
DTEND;TZID=America/New_York:20190227T233000
DTSTAMP:20260424T014957
CREATED:20181213T222746Z
LAST-MODIFIED:20181213T222746Z
UID:10006755-1551301200-1551310200@newsuat.fordham.edu
SUMMARY:Fordham Men's Basketball vs. St. Joseph's University
DESCRIPTION:Join us as Fordham men’s basketball takes on St. Joseph’s University.
URL:https://newsuat.fordham.edu/event/fordham-mens-basketball-vs-st-josephs-university/
LOCATION:Rose Hill Gymnasium\, 441 East Fordham Road\, Bronx\, NY\, 10458\, United States
CATEGORIES:Athletics
ORGANIZER;CN="Fordham Athletics":MAILTO:jcannady@fordham.edu
GEO:40.8612275;-73.8892354
X-APPLE-STRUCTURED-LOCATION;VALUE=URI;X-ADDRESS=Rose Hill Gymnasium 441 East Fordham Road Bronx NY 10458 United States;X-APPLE-RADIUS=500;X-TITLE=441 East Fordham Road:geo:-73.8892354,40.8612275
END:VEVENT
END:VCALENDAR