BEGIN:VCALENDAR
VERSION:2.0
PRODID:-//Fordham Now - ECPv6.15.20//NONSGML v1.0//EN
CALSCALE:GREGORIAN
METHOD:PUBLISH
X-ORIGINAL-URL:https://newsuat.fordham.edu
X-WR-CALDESC:Events for Fordham Now
REFRESH-INTERVAL;VALUE=DURATION:PT1H
X-Robots-Tag:noindex
X-PUBLISHED-TTL:PT1H
BEGIN:VTIMEZONE
TZID:America/New_York
BEGIN:DAYLIGHT
TZOFFSETFROM:-0500
TZOFFSETTO:-0400
TZNAME:EDT
DTSTART:20180311T070000
END:DAYLIGHT
BEGIN:STANDARD
TZOFFSETFROM:-0400
TZOFFSETTO:-0500
TZNAME:EST
DTSTART:20181104T060000
END:STANDARD
BEGIN:DAYLIGHT
TZOFFSETFROM:-0500
TZOFFSETTO:-0400
TZNAME:EDT
DTSTART:20190310T070000
END:DAYLIGHT
BEGIN:STANDARD
TZOFFSETFROM:-0400
TZOFFSETTO:-0500
TZNAME:EST
DTSTART:20191103T060000
END:STANDARD
BEGIN:DAYLIGHT
TZOFFSETFROM:-0500
TZOFFSETTO:-0400
TZNAME:EDT
DTSTART:20200308T070000
END:DAYLIGHT
BEGIN:STANDARD
TZOFFSETFROM:-0400
TZOFFSETTO:-0500
TZNAME:EST
DTSTART:20201101T060000
END:STANDARD
END:VTIMEZONE
BEGIN:VEVENT
DTSTART;TZID=America/New_York:20190105T140000
DTEND;TZID=America/New_York:20190105T163000
DTSTAMP:20260424T032310
CREATED:20181212T151458Z
LAST-MODIFIED:20181212T151458Z
UID:10006745-1546696800-1546705800@newsuat.fordham.edu
SUMMARY:Fordham Men's Basketball vs. Virginia Commonwealth University
DESCRIPTION:Join us as Fordham men’s basketball takes on Virginia Commonwealth University.
URL:https://newsuat.fordham.edu/event/fordham-mens-basketball-vs-virginia-commonwealth-university/
LOCATION:Rose Hill Gymnasium\, 441 East Fordham Road\, Bronx\, NY\, 10458\, United States
CATEGORIES:Athletics
ORGANIZER;CN="Fordham Athletics":MAILTO:jcannady@fordham.edu
GEO:40.8612275;-73.8892354
X-APPLE-STRUCTURED-LOCATION;VALUE=URI;X-ADDRESS=Rose Hill Gymnasium 441 East Fordham Road Bronx NY 10458 United States;X-APPLE-RADIUS=500;X-TITLE=441 East Fordham Road:geo:-73.8892354,40.8612275
END:VEVENT
BEGIN:VEVENT
DTSTART;TZID=America/New_York:20190109T120000
DTEND;TZID=America/New_York:20190109T143000
DTSTAMP:20260424T032310
CREATED:20181212T152444Z
LAST-MODIFIED:20181212T152444Z
UID:10006759-1547035200-1547044200@newsuat.fordham.edu
SUMMARY:Fordham Women's Basketball vs. University of Richmond
DESCRIPTION:Join us as Fordham women’s basketball takes on the University of Richmond.
URL:https://newsuat.fordham.edu/event/fordham-womens-basketball-vs-university-of-richmond/
LOCATION:Rose Hill Gymnasium\, 441 East Fordham Road\, Bronx\, NY\, 10458\, United States
CATEGORIES:Athletics
ORGANIZER;CN="Fordham Athletics":MAILTO:jcannady@fordham.edu
GEO:40.8612275;-73.8892354
X-APPLE-STRUCTURED-LOCATION;VALUE=URI;X-ADDRESS=Rose Hill Gymnasium 441 East Fordham Road Bronx NY 10458 United States;X-APPLE-RADIUS=500;X-TITLE=441 East Fordham Road:geo:-73.8892354,40.8612275
END:VEVENT
BEGIN:VEVENT
DTSTART;TZID=America/New_York:20190112T163000
DTEND;TZID=America/New_York:20190112T190000
DTSTAMP:20260424T032310
CREATED:20181213T194325Z
LAST-MODIFIED:20181213T194325Z
UID:10006746-1547310600-1547319600@newsuat.fordham.edu
SUMMARY:Fordham Men's Basketball vs. St. Bonaventure University
DESCRIPTION:Join us as Fordham men’s basketball takes on St. Bonaventure University.
URL:https://newsuat.fordham.edu/event/fordham-mens-basketball-vs-st-bonaventure-university/
LOCATION:Blue Cross Arena\, 100 Exchange Blvd\, Rochester\, NY\, 14614\, United States
CATEGORIES:Athletics
ORGANIZER;CN="Fordham Athletics":MAILTO:jcannady@fordham.edu
END:VEVENT
BEGIN:VEVENT
DTSTART;TZID=America/New_York:20190113T160000
DTEND;TZID=America/New_York:20190113T183000
DTSTAMP:20260424T032310
CREATED:20181213T194728Z
LAST-MODIFIED:20181213T194728Z
UID:10006760-1547395200-1547404200@newsuat.fordham.edu
SUMMARY:Fordham Women's Basketball vs. Saint Louis University
DESCRIPTION:Join us as Fordham women’s basketball takes on Saint Louis University.
URL:https://newsuat.fordham.edu/event/fordham-womens-basketball-vs-saint-louis-university/
LOCATION:Chaifetz Arena\, 1 S Compton Ave\, St. Louis\, MO\, 63103\, United States
CATEGORIES:Athletics
ORGANIZER;CN="Fordham Athletics":MAILTO:jcannady@fordham.edu
END:VEVENT
BEGIN:VEVENT
DTSTART;TZID=America/New_York:20190115T190000
DTEND;TZID=America/New_York:20190115T213000
DTSTAMP:20260424T032310
CREATED:20181213T194903Z
LAST-MODIFIED:20181213T194903Z
UID:10006747-1547578800-1547587800@newsuat.fordham.edu
SUMMARY:Fordham Men's Basketball vs. Saint Louis University
DESCRIPTION:Join us as Fordham men’s basketball takes on Saint Louis University.
URL:https://newsuat.fordham.edu/event/fordham-mens-basketball-vs-saint-louis-university/
LOCATION:Rose Hill Gymnasium\, 441 East Fordham Road\, Bronx\, NY\, 10458\, United States
CATEGORIES:Athletics
ORGANIZER;CN="Fordham Athletics":MAILTO:jcannady@fordham.edu
GEO:40.8612275;-73.8892354
X-APPLE-STRUCTURED-LOCATION;VALUE=URI;X-ADDRESS=Rose Hill Gymnasium 441 East Fordham Road Bronx NY 10458 United States;X-APPLE-RADIUS=500;X-TITLE=441 East Fordham Road:geo:-73.8892354,40.8612275
END:VEVENT
BEGIN:VEVENT
DTSTART;TZID=America/New_York:20190116T190000
DTEND;TZID=America/New_York:20190116T213000
DTSTAMP:20260424T032310
CREATED:20181213T195114Z
LAST-MODIFIED:20181213T195114Z
UID:10006761-1547665200-1547674200@newsuat.fordham.edu
SUMMARY:Fordham Women's Basketball vs. Virginia Commonwealth University
DESCRIPTION:Join us as Fordham women’s basketball takes on Virginia Commonwealth University.
URL:https://newsuat.fordham.edu/event/fordham-womens-basketball-vs-virginia-commonwealth-university/
LOCATION:Rose Hill Gymnasium\, 441 East Fordham Road\, Bronx\, NY\, 10458\, United States
CATEGORIES:Athletics
ORGANIZER;CN="Fordham Athletics":MAILTO:jcannady@fordham.edu
GEO:40.8612275;-73.8892354
X-APPLE-STRUCTURED-LOCATION;VALUE=URI;X-ADDRESS=Rose Hill Gymnasium 441 East Fordham Road Bronx NY 10458 United States;X-APPLE-RADIUS=500;X-TITLE=441 East Fordham Road:geo:-73.8892354,40.8612275
END:VEVENT
BEGIN:VEVENT
DTSTART;TZID=America/New_York:20190119T190000
DTEND;TZID=America/New_York:20190119T190000
DTSTAMP:20260424T032310
CREATED:20190107T202039Z
LAST-MODIFIED:20190107T202039Z
UID:10006807-1547924400-1547924400@newsuat.fordham.edu
SUMMARY:Alumni Chapter of Washington\, D.C.: Men's Basketball at George Mason
DESCRIPTION:Join the Alumni Chapter of Washington\, D.C.\, to cheer on the Fordham Rams as they take on the George Mason Patriots in men’s basketball! Our reserved seats are $25 a ticket. Seats are located in Section 103. \nPurchase your tickets online using the code Fordham.
URL:https://newsuat.fordham.edu/event/alumni-chapter-of-washington-d-c-mens-basketball-at-george-mason/
LOCATION:Eaglebank Arena\, 4500 Patriot Circle\, Fairfax\, VA\, 22030\, United States
CATEGORIES:Athletics,Social
ORGANIZER;CN="Alumni Chapter of Washington%2C D.C.":MAILTO:fordham.club.dc@gmail.com
END:VEVENT
BEGIN:VEVENT
DTSTART;TZID=America/New_York:20190119T190000
DTEND;TZID=America/New_York:20190119T213000
DTSTAMP:20260424T032310
CREATED:20181213T195524Z
LAST-MODIFIED:20181213T195524Z
UID:10006748-1547924400-1547933400@newsuat.fordham.edu
SUMMARY:Fordham Men's Basketball vs. George Mason University
DESCRIPTION:Join us as Fordham men’s basketball takes on George Mason University.
URL:https://newsuat.fordham.edu/event/fordham-mens-basketball-vs-george-mason-university/
LOCATION:Eaglebank Arena\, 4500 Patriot Circle\, Fairfax\, VA\, 22030\, United States
CATEGORIES:Athletics
ORGANIZER;CN="Fordham Athletics":MAILTO:jcannady@fordham.edu
END:VEVENT
BEGIN:VEVENT
DTSTART;TZID=America/New_York:20190120T140000
DTEND;TZID=America/New_York:20190120T163000
DTSTAMP:20260424T032310
CREATED:20181213T195929Z
LAST-MODIFIED:20181213T195929Z
UID:10006762-1547992800-1548001800@newsuat.fordham.edu
SUMMARY:Fordham Women's Basketball vs University of Dayton
DESCRIPTION:Join us as Fordham women’s basketball takes on the University of Dayton.
URL:https://newsuat.fordham.edu/event/fordham-womens-basketball-vs-university-of-dayton/
LOCATION:University of Dayton Arena\, 1801 S Edwin C Moses Blvd\, Dayton\, OH\, 45417\, United States
CATEGORIES:Athletics
ORGANIZER;CN="Fordham Athletics":MAILTO:jcannady@fordham.edu
END:VEVENT
BEGIN:VEVENT
DTSTART;TZID=America/New_York:20190123T190000
DTEND;TZID=America/New_York:20190123T213000
DTSTAMP:20260424T032310
CREATED:20181213T200057Z
LAST-MODIFIED:20181213T200057Z
UID:10006749-1548270000-1548279000@newsuat.fordham.edu
SUMMARY:Fordham Men's Basketball vs. La Salle University
DESCRIPTION:Join us as Fordham men’s basketball takes on La Salle University.
URL:https://newsuat.fordham.edu/event/fordham-mens-basketball-vs-la-salle-university/
LOCATION:Rose Hill Gymnasium\, 441 East Fordham Road\, Bronx\, NY\, 10458\, United States
CATEGORIES:Athletics
ORGANIZER;CN="Fordham Athletics":MAILTO:jcannady@fordham.edu
GEO:40.8612275;-73.8892354
X-APPLE-STRUCTURED-LOCATION;VALUE=URI;X-ADDRESS=Rose Hill Gymnasium 441 East Fordham Road Bronx NY 10458 United States;X-APPLE-RADIUS=500;X-TITLE=441 East Fordham Road:geo:-73.8892354,40.8612275
END:VEVENT
BEGIN:VEVENT
DTSTART;TZID=America/New_York:20190124T190000
DTEND;TZID=America/New_York:20190124T213000
DTSTAMP:20260424T032310
CREATED:20181213T200524Z
LAST-MODIFIED:20181213T200524Z
UID:10006763-1548356400-1548365400@newsuat.fordham.edu
SUMMARY:Fordham Women's Basketball vs. University of Rhode Island
DESCRIPTION:Join us as Fordham women’s basketball takes on the University of Rhode Island.
URL:https://newsuat.fordham.edu/event/fordham-womens-basketball-vs-university-of-rhode-island/
LOCATION:Ryan Center\, 1 Lincoln Almond Plaza\, Kingston\, RI\, 02881\, United States
CATEGORIES:Athletics
ORGANIZER;CN="Fordham Athletics":MAILTO:jcannady@fordham.edu
END:VEVENT
BEGIN:VEVENT
DTSTART;TZID=America/New_York:20190126T140000
DTEND;TZID=America/New_York:20190126T163000
DTSTAMP:20260424T032310
CREATED:20181213T200635Z
LAST-MODIFIED:20181213T200635Z
UID:10006750-1548511200-1548520200@newsuat.fordham.edu
SUMMARY:Fordham Men's Basketball vs. University of Dayton
DESCRIPTION:Join us as Fordham men’s basketball takes on the University of Dayton.
URL:https://newsuat.fordham.edu/event/fordham-mens-basketball-vs-university-of-dayton/
LOCATION:Rose Hill Gymnasium\, 441 East Fordham Road\, Bronx\, NY\, 10458\, United States
CATEGORIES:Athletics
ORGANIZER;CN="Fordham Athletics":MAILTO:jcannady@fordham.edu
GEO:40.8612275;-73.8892354
X-APPLE-STRUCTURED-LOCATION;VALUE=URI;X-ADDRESS=Rose Hill Gymnasium 441 East Fordham Road Bronx NY 10458 United States;X-APPLE-RADIUS=500;X-TITLE=441 East Fordham Road:geo:-73.8892354,40.8612275
END:VEVENT
BEGIN:VEVENT
DTSTART;TZID=America/New_York:20190127T140000
DTEND;TZID=America/New_York:20190127T163000
DTSTAMP:20260424T032310
CREATED:20181213T200742Z
LAST-MODIFIED:20181213T200742Z
UID:10006765-1548597600-1548606600@newsuat.fordham.edu
SUMMARY:Fordham Women's Basketball vs. Davidson College
DESCRIPTION:Join us as Fordham women’s basketball takes on Davidson College.
URL:https://newsuat.fordham.edu/event/fordham-womens-basketball-vs-davidson-college/
LOCATION:Rose Hill Gymnasium\, 441 East Fordham Road\, Bronx\, NY\, 10458\, United States
CATEGORIES:Athletics
ORGANIZER;CN="Fordham Athletics":MAILTO:jcannady@fordham.edu
GEO:40.8612275;-73.8892354
X-APPLE-STRUCTURED-LOCATION;VALUE=URI;X-ADDRESS=Rose Hill Gymnasium 441 East Fordham Road Bronx NY 10458 United States;X-APPLE-RADIUS=500;X-TITLE=441 East Fordham Road:geo:-73.8892354,40.8612275
END:VEVENT
BEGIN:VEVENT
DTSTART;TZID=America/New_York:20190130T180000
DTEND;TZID=America/New_York:20190130T203000
DTSTAMP:20260424T032310
CREATED:20190103T152707Z
LAST-MODIFIED:20190103T152707Z
UID:10006801-1548871200-1548880200@newsuat.fordham.edu
SUMMARY:2019 Fordham Baseball Hot Stove
DESCRIPTION:Join head coach Kevin Leighton and the Fordham baseball team captains to celebrate the program’s 160th anniversary at Yankee Stadium! This is a great opportunity to hear about the upcoming season while catching up with former teammates and Fordham baseball fans.
URL:https://newsuat.fordham.edu/event/2019-fordham-baseball-hot-stove/
LOCATION:Yankee Stadium
CATEGORIES:Athletics,Receptions,Reunions
ATTACH;FMTTYPE=image/jpeg:https://newsuat.fordham.edu/wp-content/uploads/2018/12/43500786_10155798357807423_8262608490057433088_o.jpg
ORGANIZER;CN="Kara Field":MAILTO:kfield1@fordham.edu
GEO:40.8288189;-73.9265691
END:VEVENT
BEGIN:VEVENT
DTSTART;TZID=America/New_York:20190130T190000
DTEND;TZID=America/New_York:20190130T213000
DTSTAMP:20260424T032310
CREATED:20181213T201132Z
LAST-MODIFIED:20181213T201132Z
UID:10006751-1548874800-1548883800@newsuat.fordham.edu
SUMMARY:Fordham Men's Basketball vs. George Washington University
DESCRIPTION:Join us as Fordham men’s basketball takes on George Washington University.
URL:https://newsuat.fordham.edu/event/fordham-mens-basketball-vs-george-washington-university/
LOCATION:Charles E. Smith Center\, 600 22nd St NW\, Washington\, D.C.\, DC\, 20052\, United States
CATEGORIES:Athletics
ORGANIZER;CN="Fordham Athletics":MAILTO:jcannady@fordham.edu
GEO:38.8977629;-77.0495203
X-APPLE-STRUCTURED-LOCATION;VALUE=URI;X-ADDRESS=Charles E. Smith Center 600 22nd St NW Washington D.C. DC 20052 United States;X-APPLE-RADIUS=500;X-TITLE=600 22nd St NW:geo:-77.0495203,38.8977629
END:VEVENT
BEGIN:VEVENT
DTSTART;TZID=America/New_York:20190131T190000
DTEND;TZID=America/New_York:20190131T213000
DTSTAMP:20260424T032310
CREATED:20181213T201509Z
LAST-MODIFIED:20181213T201509Z
UID:10006766-1548961200-1548970200@newsuat.fordham.edu
SUMMARY:Fordham Women's Basketball vs. La Salle University
DESCRIPTION:Join us as Fordham women’s basketball takes on La Salle University.
URL:https://newsuat.fordham.edu/event/fordham-womens-basketball-vs-la-salle-university/
LOCATION:TruMark Financial Center\, W Olney Ave\, Philadelphia\, PA\, 19144\, United States
CATEGORIES:Athletics
ORGANIZER;CN="Fordham Athletics":MAILTO:jcannady@fordham.edu
END:VEVENT
END:VCALENDAR